BEGIN:VCALENDAR
VERSION:2.0
PRODID:-//134.96.226.213//NONSGML kigkonsult.se iCalcreator 2.41.71//
CALSCALE:GREGORIAN
METHOD:PUBLISH
UID:38393632-3136-4366-a338-303636616639
X-WR-CALNAME:Artificial Intelligence Calendar
X-WR-CALDESC:Events of the lecture Artificial Intelligence
X-WR-TIMEZONE:Europe/Berlin
BEGIN:VEVENT
UID:62316233-6238-4438-a135-333763643663
DTSTAMP:20260421T112151Z
DESCRIPTION:
DTSTART:20231027T121500Z
DTEND:20231027T140000Z
LOCATION:Günter-Hotz-Hörsaal
SUMMARY:About this Course\, Introduction
END:VEVENT
BEGIN:VEVENT
UID:31333432-3933-4061-b737-386532323537
DTSTAMP:20260421T112151Z
DESCRIPTION:
DTSTART:20231031T091500Z
DTEND:20231031T110000Z
LOCATION:Günter-Hotz-Hörsaal
SUMMARY:Introduction to AI & A Glimpse of Omitted Areas
END:VEVENT
BEGIN:VEVENT
UID:32373738-3830-4666-a130-636133336636
DTSTAMP:20260421T112151Z
DESCRIPTION:
DTSTART:20231103T131500Z
DTEND:20231103T150000Z
LOCATION:Günter-Hotz-Hörsaal
SUMMARY:Search I: Blind Search
END:VEVENT
BEGIN:VEVENT
UID:35363866-6261-4435-a238-306264613536
DTSTAMP:20260421T112151Z
DESCRIPTION:
DTSTART:20231107T091500Z
DTEND:20231107T110000Z
LOCATION:Günter-Hotz-Hörsaal
SUMMARY:Search I: Blind Search & Search II: Heuristic Search
END:VEVENT
BEGIN:VEVENT
UID:35306334-3335-4536-a162-353762623431
DTSTAMP:20260421T112151Z
DESCRIPTION:
DTSTART:20231110T131500Z
DTEND:20231110T150000Z
LOCATION:Günter-Hotz-Hörsaal
SUMMARY:Search II: Heuristic Search & Search III: Sparse Search
END:VEVENT
BEGIN:VEVENT
UID:34623639-6435-4031-b163-373637303534
DTSTAMP:20260421T112151Z
DESCRIPTION:
DTSTART:20231114T091500Z
DTEND:20231114T110000Z
LOCATION:Günter-Hotz-Hörsaal
SUMMARY:Search III: Sparse Search
END:VEVENT
BEGIN:VEVENT
UID:30353731-3531-4363-a132-366233636261
DTSTAMP:20260421T112151Z
DESCRIPTION:
DTSTART:20231117T131500Z
DTEND:20231117T150000Z
LOCATION:Günter-Hotz-Hörsaal
SUMMARY:Symbolic Planning I: Formalisms
END:VEVENT
BEGIN:VEVENT
UID:35633363-3639-4461-b366-653839623135
DTSTAMP:20260421T112151Z
DESCRIPTION:
DTSTART:20231121T091500Z
DTEND:20231121T110000Z
LOCATION:Günter-Hotz-Hörsaal
SUMMARY:Symbolic Planning I: Formalisms & Symbolic Planning II: Heuristic S
 earch Basics
END:VEVENT
BEGIN:VEVENT
UID:37373336-3335-4439-b064-353363306465
DTSTAMP:20260421T112151Z
DESCRIPTION:
DTSTART:20231124T131500Z
DTEND:20231124T150000Z
LOCATION:Günter-Hotz-Hörsaal
SUMMARY:Symbolic Planning II: Heuristic Search Basics & Symbolic Planning I
 II: Critical-Path Heuristics
END:VEVENT
BEGIN:VEVENT
UID:64623161-3462-4233-a563-356362626334
DTSTAMP:20260421T112151Z
DESCRIPTION:
DTSTART:20231128T091500Z
DTEND:20231128T110000Z
LOCATION:Günter-Hotz-Hörsaal
SUMMARY:Symbolic Planning IV: Delete-Relaxation Heuristics
END:VEVENT
BEGIN:VEVENT
UID:37646532-3435-4964-a234-393461383732
DTSTAMP:20260421T112151Z
DESCRIPTION:
DTSTART:20231201T131500Z
DTEND:20231201T150000Z
LOCATION:Günter-Hotz-Hörsaal
SUMMARY:Symbolic Planning IV: Delete-Relaxation Heuristics
END:VEVENT
BEGIN:VEVENT
UID:35626230-3264-4636-b933-636264336532
DTSTAMP:20260421T112151Z
DESCRIPTION:
DTSTART:20231205T091500Z
DTEND:20231205T110000Z
LOCATION:Günter-Hotz-Hörsaal
SUMMARY:Symbolic Planning V: Abstractions
END:VEVENT
BEGIN:VEVENT
UID:34306663-3230-4662-a664-666662343936
DTSTAMP:20260421T112151Z
DESCRIPTION:
DTSTART:20231208T131500Z
DTEND:20231208T150000Z
LOCATION:Günter-Hotz-Hörsaal
SUMMARY:Symbolic Planning V: Abstractions & Symbolic Planning VI: Pattern D
 atabases
END:VEVENT
BEGIN:VEVENT
UID:35306365-3937-4362-a138-326539313635
DTSTAMP:20260421T112151Z
DESCRIPTION:
DTSTART:20231212T091500Z
DTEND:20231212T110000Z
LOCATION:Günter-Hotz-Hörsaal
SUMMARY:ML Basics
END:VEVENT
BEGIN:VEVENT
UID:39336266-6365-4162-b137-346364666535
DTSTAMP:20260421T112151Z
DESCRIPTION:
DTSTART:20231215T131500Z
DTEND:20231215T150000Z
LOCATION:Günter-Hotz-Hörsaal
SUMMARY:ML Basics & Symbolic Planning VII: Learning
END:VEVENT
BEGIN:VEVENT
UID:66656566-6436-4330-b062-313461373332
DTSTAMP:20260421T112151Z
DESCRIPTION:
DTSTART:20240109T091500Z
DTEND:20240109T110000Z
LOCATION:Günter-Hotz-Hörsaal
SUMMARY:MDPs I: Introduction & Heuristic Search
END:VEVENT
BEGIN:VEVENT
UID:30323936-6238-4364-b836-383566343030
DTSTAMP:20260421T112151Z
DESCRIPTION:
DTSTART:20240112T131500Z
DTEND:20240112T150000Z
LOCATION:Günter-Hotz-Hörsaal
SUMMARY:MDPs I: Introduction & Heuristic Search
END:VEVENT
BEGIN:VEVENT
UID:31353761-3838-4631-b130-613461666339
DTSTAMP:20260421T112151Z
DESCRIPTION:
DTSTART:20240116T091500Z
DTEND:20240116T110000Z
LOCATION:Günter-Hotz-Hörsaal
SUMMARY:MDPs II: Probabilistic Planning & PDBs
END:VEVENT
BEGIN:VEVENT
UID:39303363-3535-4031-b231-646263633361
DTSTAMP:20260421T112151Z
DESCRIPTION:
DTSTART:20240119T131500Z
DTEND:20240119T150000Z
LOCATION:Günter-Hotz-Hörsaal
SUMMARY:MDPs II: Probabilistic Planning & PDBs & MDPs III: Reinforcement Le
 arning
END:VEVENT
BEGIN:VEVENT
UID:30623739-6433-4530-b135-306263653332
DTSTAMP:20260421T112151Z
DESCRIPTION:
DTSTART:20240123T091500Z
DTEND:20240123T110000Z
LOCATION:https://cs-uni-saarland-de.zoom.us/j/98696736217
SUMMARY:MDPs III: Reinforcement Learning & Games I: Search
END:VEVENT
BEGIN:VEVENT
UID:32313864-6363-4438-b935-383330326334
DTSTAMP:20260421T112151Z
DESCRIPTION:
DTSTART:20240126T131500Z
DTEND:20240126T150000Z
LOCATION:Günter-Hotz-Hörsaal
SUMMARY:Games I: Search
END:VEVENT
BEGIN:VEVENT
UID:35616534-3432-4034-b137-343736633864
DTSTAMP:20260421T112151Z
DESCRIPTION:
DTSTART:20240130T091500Z
DTEND:20240130T110000Z
LOCATION:Günter-Hotz-Hörsaal
SUMMARY:Games II: Learning
END:VEVENT
BEGIN:VEVENT
UID:63396261-6438-4932-a430-623838343163
DTSTAMP:20260421T112151Z
DESCRIPTION:
DTSTART:20240202T131500Z
DTEND:20240202T150000Z
LOCATION:Günter-Hotz-Hörsaal
SUMMARY:Games II: Learning & Trusted AI: Action Policies
END:VEVENT
BEGIN:VEVENT
UID:30633661-3661-4464-b666-613839393564
DTSTAMP:20260421T112151Z
DESCRIPTION:
DTSTART:20240206T091500Z
DTEND:20240206T110000Z
LOCATION:Günter-Hotz-Hörsaal
SUMMARY:Trusted AI: Action Policies
END:VEVENT
END:VCALENDAR
