BEGIN:VCALENDAR
VERSION:2.0
PRODID:-//134.96.226.213//NONSGML kigkonsult.se iCalcreator 2.41.71//
CALSCALE:GREGORIAN
METHOD:PUBLISH
UID:66356164-6631-4766-b434-376638666263
X-WR-CALNAME:Artificial Intelligence Calendar
X-WR-CALDESC:Events of the lecture Artificial Intelligence
X-WR-TIMEZONE:Europe/Berlin
BEGIN:VEVENT
UID:65633538-3931-4664-a462-313363636339
DTSTAMP:20260421T111833Z
DESCRIPTION:
DTSTART:20231027T121500Z
DTEND:20231027T140000Z
LOCATION:Günter-Hotz-Hörsaal
SUMMARY:About this Course\, Introduction
END:VEVENT
BEGIN:VEVENT
UID:30376636-3037-4863-a332-613865383235
DTSTAMP:20260421T111833Z
DESCRIPTION:
DTSTART:20231031T091500Z
DTEND:20231031T110000Z
LOCATION:Günter-Hotz-Hörsaal
SUMMARY:Introduction to AI & A Glimpse of Omitted Areas
END:VEVENT
BEGIN:VEVENT
UID:33366537-3330-4134-b130-396661306333
DTSTAMP:20260421T111833Z
DESCRIPTION:
DTSTART:20231103T131500Z
DTEND:20231103T150000Z
LOCATION:Günter-Hotz-Hörsaal
SUMMARY:Search I: Blind Search
END:VEVENT
BEGIN:VEVENT
UID:31353830-6533-4365-a333-656138363431
DTSTAMP:20260421T111833Z
DESCRIPTION:
DTSTART:20231107T091500Z
DTEND:20231107T110000Z
LOCATION:Günter-Hotz-Hörsaal
SUMMARY:Search I: Blind Search & Search II: Heuristic Search
END:VEVENT
BEGIN:VEVENT
UID:63353530-3164-4236-a364-306330313934
DTSTAMP:20260421T111833Z
DESCRIPTION:In this demo\, I will give a short overview over C++\, focusing
  mainly on its extensions compared to C. This demo is intended for student
 s that have yet to program in C++\, or have only little experience. Howeve
 r\, I do assume at least basic familiarity with C.\n\nContent:\n- Dynamic 
 memory allocation\n- Reference Types\n- Classes and Inheritance\n- Functio
 n and Operator overloading
DTSTART:20231107T111500Z
DTEND:20231107T130000Z
LOCATION:Günter-Hotz Hörsaal
SUMMARY:Demo: C++ Boot Camp
END:VEVENT
BEGIN:VEVENT
UID:63336361-3531-4936-b131-323130613565
DTSTAMP:20260421T111833Z
DESCRIPTION:
DTSTART:20231110T131500Z
DTEND:20231110T150000Z
LOCATION:Günter-Hotz-Hörsaal
SUMMARY:Search II: Heuristic Search & Search III: Sparse Search
END:VEVENT
BEGIN:VEVENT
UID:35653632-3965-4235-b366-353062373038
DTSTAMP:20260421T111833Z
DESCRIPTION:
DTSTART;VALUE=DATE:20231113
DTEND;VALUE=DATE:20231120
SUMMARY:Start of Tutorials
END:VEVENT
BEGIN:VEVENT
UID:39326664-3230-4364-b036-396665383066
DTSTAMP:20260421T111833Z
DESCRIPTION:
DTSTART:20231114T091500Z
DTEND:20231114T110000Z
LOCATION:Günter-Hotz-Hörsaal
SUMMARY:Search III: Sparse Search
END:VEVENT
BEGIN:VEVENT
UID:37366434-6138-4235-b663-386364353264
DTSTAMP:20260421T111833Z
DESCRIPTION:In this demo\, I will talk about the C++ standard library and h
 ow to use it productively.\n\nContent:\n- Strings\n- Input & Output\n- Sma
 rt pointers\n- Containers\n- Iterators & Ranges\n- Algorithms
DTSTART:20231114T111500Z
DTEND:20231114T130000Z
LOCATION:Günter-Hotz Hörsaal
SUMMARY:Demo: The C++ Standard Library
END:VEVENT
BEGIN:VEVENT
UID:32666533-6332-4431-b039-363030663264
DTSTAMP:20260421T111833Z
DESCRIPTION:
DTSTART:20231117T131500Z
DTEND:20231117T150000Z
LOCATION:Günter-Hotz-Hörsaal
SUMMARY:Symbolic Planning I: Formalisms
END:VEVENT
BEGIN:VEVENT
UID:64313663-3163-4438-b432-343230306265
DTSTAMP:20260421T111833Z
DESCRIPTION:
DTSTART:20231121T091500Z
DTEND:20231121T110000Z
LOCATION:Günter-Hotz-Hörsaal
SUMMARY:Symbolic Planning I: Formalisms & Symbolic Planning II: Heuristic S
 earch Basics
END:VEVENT
BEGIN:VEVENT
UID:66613661-3636-4833-b861-356135633264
DTSTAMP:20260421T111833Z
DESCRIPTION:In this demo\, I will demonstrate how to setup your work enviro
 nment for the programming projects on each platform: Linux (Ubuntu)\, Wind
 ows (10) and MacOS (Ventura 13.2). Afterwards\, I will give a short overvi
 ew over the programming projects\, and show how to work on them effectivel
 y.\n\nContent:\n- Installation of a C++ compiler supporting C++ 20 (GCC >=
  12\, Clang >= 16\, MSVC)\n- Installation of other development tools requi
 red to build the programming projects (CMake >= 3.22\, Python)\n- Projects
  overview\n- Building and testing the project\n- Setting up Visual Studio 
 Code for effective development in the projects
DTSTART:20231121T111500Z
DTEND:20231121T130000Z
LOCATION:Günter-Hotz Hörsaal
SUMMARY:Demo: Setup and introduction to the programming projects
END:VEVENT
BEGIN:VEVENT
UID:38383530-3934-4937-b631-346666343364
DTSTAMP:20260421T111833Z
DESCRIPTION:
DTSTART:20231121T150000Z
DTEND:20231128T225900Z
SUMMARY:Project 0: Blind + Goal-Counting Heuristic
END:VEVENT
BEGIN:VEVENT
UID:66393164-6466-4465-b565-316465353437
DTSTAMP:20260421T111833Z
DESCRIPTION:
DTSTART:20231123T111500Z
DTEND:20231123T130000Z
LOCATION:E1 1\, Seminar Room 3.06
SUMMARY:Office Hour
END:VEVENT
BEGIN:VEVENT
UID:64353664-3964-4436-a262-653666626462
DTSTAMP:20260421T111833Z
DESCRIPTION:
DTSTART:20231124T131500Z
DTEND:20231124T150000Z
LOCATION:Günter-Hotz-Hörsaal
SUMMARY:Symbolic Planning II: Heuristic Search Basics & Symbolic Planning I
 II: Critical-Path Heuristics
END:VEVENT
BEGIN:VEVENT
UID:34353766-3033-4935-a131-393964636639
DTSTAMP:20260421T111833Z
DESCRIPTION:
DTSTART:20231128T091500Z
DTEND:20231128T110000Z
LOCATION:Günter-Hotz-Hörsaal
SUMMARY:Symbolic Planning IV: Delete-Relaxation Heuristics
END:VEVENT
BEGIN:VEVENT
UID:38326665-6463-4436-b661-363262326438
DTSTAMP:20260421T111833Z
DESCRIPTION:
DTSTART:20231128T111500Z
DTEND:20231128T130000Z
LOCATION:E1 1\, Seminar Room 3.06
SUMMARY:Office Hour
END:VEVENT
BEGIN:VEVENT
UID:64393531-6434-4230-b464-613831643264
DTSTAMP:20260421T111833Z
DESCRIPTION:
DTSTART:20231128T150000Z
DTEND:20231212T225900Z
SUMMARY:Project 1: hmax + hFF
END:VEVENT
BEGIN:VEVENT
UID:34646436-3438-4334-b039-636464666632
DTSTAMP:20260421T111833Z
DESCRIPTION:
DTSTART:20231130T111500Z
DTEND:20231130T130000Z
LOCATION:E1 1\, Seminar Room 3.06
SUMMARY:Office Hour
END:VEVENT
BEGIN:VEVENT
UID:30626336-3537-4463-a332-623464313232
DTSTAMP:20260421T111833Z
DESCRIPTION:
DTSTART:20231201T131500Z
DTEND:20231201T150000Z
LOCATION:Günter-Hotz-Hörsaal
SUMMARY:Symbolic Planning IV: Delete-Relaxation Heuristics
END:VEVENT
BEGIN:VEVENT
UID:64343931-3331-4437-a338-656537316230
DTSTAMP:20260421T111833Z
DESCRIPTION:
DTSTART:20231205T091500Z
DTEND:20231205T110000Z
LOCATION:Günter-Hotz-Hörsaal
SUMMARY:Symbolic Planning V: Abstractions
END:VEVENT
BEGIN:VEVENT
UID:33636334-3861-4466-a330-373433316235
DTSTAMP:20260421T111833Z
DESCRIPTION:
DTSTART:20231205T111500Z
DTEND:20231205T130000Z
LOCATION:E1 1\, Seminar Room 3.06
SUMMARY:Office Hour
END:VEVENT
BEGIN:VEVENT
UID:31376435-3636-4365-a536-633863623965
DTSTAMP:20260421T111833Z
DESCRIPTION:
DTSTART:20231205T150000Z
DTEND:20240109T225900Z
SUMMARY:Project 2: Pattern Database Heuristics
END:VEVENT
BEGIN:VEVENT
UID:31623735-3763-4566-b536-316463386234
DTSTAMP:20260421T111833Z
DESCRIPTION:
DTSTART:20231207T111500Z
DTEND:20231207T130000Z
LOCATION:E1 1\, Seminar Room 3.06
SUMMARY:Office Hour
END:VEVENT
BEGIN:VEVENT
UID:64616262-6436-4239-b030-323831386638
DTSTAMP:20260421T111833Z
DESCRIPTION:
DTSTART:20231208T131500Z
DTEND:20231208T150000Z
LOCATION:Günter-Hotz-Hörsaal
SUMMARY:Symbolic Planning V: Abstractions & Symbolic Planning VI: Pattern D
 atabases
END:VEVENT
BEGIN:VEVENT
UID:33323238-3139-4435-a439-363035393533
DTSTAMP:20260421T111833Z
DESCRIPTION:
DTSTART:20231212T091500Z
DTEND:20231212T110000Z
LOCATION:Günter-Hotz-Hörsaal
SUMMARY:ML Basics
END:VEVENT
BEGIN:VEVENT
UID:30653336-6335-4530-a261-373665616339
DTSTAMP:20260421T111833Z
DESCRIPTION:
DTSTART:20231212T111500Z
DTEND:20231212T130000Z
LOCATION:E1 1\, Seminar Room 3.06
SUMMARY:Office Hour
END:VEVENT
BEGIN:VEVENT
UID:31383535-3763-4566-b634-336364626661
DTSTAMP:20260421T111833Z
DESCRIPTION:
DTSTART:20231214T111500Z
DTEND:20231214T130000Z
LOCATION:E1 1\, Seminar Room 3.06
SUMMARY:Office Hour
END:VEVENT
BEGIN:VEVENT
UID:31393465-3762-4162-a231-333739343763
DTSTAMP:20260421T111833Z
DESCRIPTION:
DTSTART:20231215T131500Z
DTEND:20231215T150000Z
LOCATION:Günter-Hotz-Hörsaal
SUMMARY:ML Basics & Symbolic Planning VII: Learning
END:VEVENT
BEGIN:VEVENT
UID:37646431-6163-4538-a162-646664373066
DTSTAMP:20260421T111833Z
DESCRIPTION:
DTSTART;VALUE=DATE:20231218
DTEND;VALUE=DATE:20231225
SUMMARY:No tutorials this week
END:VEVENT
BEGIN:VEVENT
UID:36626432-6435-4435-b266-346639316561
DTSTAMP:20260421T111833Z
DESCRIPTION:
DTSTART:20231219T111500Z
DTEND:20231219T130000Z
LOCATION:E1 1\, Seminar Room 3.06
SUMMARY:Office Hour
END:VEVENT
BEGIN:VEVENT
UID:38666434-3764-4534-b166-633065336163
DTSTAMP:20260421T111833Z
DESCRIPTION:
DTSTART:20231221T111500Z
DTEND:20231221T130000Z
LOCATION:E1 1\, Seminar Room 3.06
SUMMARY:Office Hour
END:VEVENT
BEGIN:VEVENT
UID:61396336-6666-4331-b039-306661666261
DTSTAMP:20260421T111833Z
DESCRIPTION:
DTSTART;VALUE=DATE:20240101
DTEND;VALUE=DATE:20240108
SUMMARY:No tutorials this week
END:VEVENT
BEGIN:VEVENT
UID:34363963-3062-4164-b038-653164353565
DTSTAMP:20260421T111833Z
DESCRIPTION:
DTSTART:20240109T091500Z
DTEND:20240109T110000Z
LOCATION:Günter-Hotz-Hörsaal
SUMMARY:MDPs I: Introduction & Heuristic Search
END:VEVENT
BEGIN:VEVENT
UID:33346236-3162-4831-b730-333865343565
DTSTAMP:20260421T111833Z
DESCRIPTION:
DTSTART:20240109T111500Z
DTEND:20240109T130000Z
LOCATION:E1 1\, Seminar Room 3.06
SUMMARY:Office Hour
END:VEVENT
BEGIN:VEVENT
UID:61636637-6430-4234-b166-366635326661
DTSTAMP:20260421T111833Z
DESCRIPTION:
DTSTART:20240109T150000Z
DTEND:20240126T225900Z
SUMMARY:Project 3: Supervised Learning
END:VEVENT
BEGIN:VEVENT
UID:34326464-6638-4337-b265-633232336635
DTSTAMP:20260421T111833Z
DESCRIPTION:
DTSTART:20240111T111500Z
DTEND:20240111T130000Z
LOCATION:E1 1\, Seminar Room 3.06
SUMMARY:Office Hour
END:VEVENT
BEGIN:VEVENT
UID:33383036-3235-4431-b035-346135303539
DTSTAMP:20260421T111833Z
DESCRIPTION:
DTSTART:20240112T131500Z
DTEND:20240112T150000Z
LOCATION:Günter-Hotz-Hörsaal
SUMMARY:MDPs I: Introduction & Heuristic Search
END:VEVENT
BEGIN:VEVENT
UID:34623866-3231-4864-a335-363364376461
DTSTAMP:20260421T111833Z
DESCRIPTION:
DTSTART:20240116T091500Z
DTEND:20240116T110000Z
LOCATION:Günter-Hotz-Hörsaal
SUMMARY:MDPs II: Probabilistic Planning & PDBs
END:VEVENT
BEGIN:VEVENT
UID:61643131-6364-4566-a364-616161396365
DTSTAMP:20260421T111833Z
DESCRIPTION:
DTSTART:20240116T111500Z
DTEND:20240116T130000Z
LOCATION:E1 1\, Seminar Room 3.06
SUMMARY:Office Hour
END:VEVENT
BEGIN:VEVENT
UID:61383264-3033-4564-b838-636663626565
DTSTAMP:20260421T111833Z
DESCRIPTION:
DTSTART:20240118T111500Z
DTEND:20240118T130000Z
LOCATION:E1 1\, Seminar Room 3.06
SUMMARY:Office Hour
END:VEVENT
BEGIN:VEVENT
UID:63323837-3333-4633-a533-616462636464
DTSTAMP:20260421T111833Z
DESCRIPTION:
DTSTART:20240119T131500Z
DTEND:20240119T150000Z
LOCATION:Günter-Hotz-Hörsaal
SUMMARY:MDPs II: Probabilistic Planning & PDBs & MDPs III: Reinforcement Le
 arning
END:VEVENT
BEGIN:VEVENT
UID:37653538-3765-4462-a566-346534613131
DTSTAMP:20260421T111833Z
DESCRIPTION:
DTSTART:20240123T091500Z
DTEND:20240123T110000Z
LOCATION:https://cs-uni-saarland-de.zoom.us/j/98696736217
SUMMARY:MDPs III: Reinforcement Learning & Games I: Search
END:VEVENT
BEGIN:VEVENT
UID:32323136-3464-4166-b263-323332363962
DTSTAMP:20260421T111833Z
DESCRIPTION:
DTSTART:20240123T111500Z
DTEND:20240123T130000Z
LOCATION:E1 1\, Seminar Room 3.06
SUMMARY:Office Hour
END:VEVENT
BEGIN:VEVENT
UID:62373164-6238-4464-b861-653266303239
DTSTAMP:20260421T111833Z
DESCRIPTION:
DTSTART:20240123T150000Z
DTEND:20240213T225900Z
SUMMARY:Project 4: Q-Learning
END:VEVENT
BEGIN:VEVENT
UID:31373761-3435-4461-b830-346635386536
DTSTAMP:20260421T111833Z
DESCRIPTION:
DTSTART:20240125T111500Z
DTEND:20240125T130000Z
LOCATION:E1 1\, Seminar Room 3.06
SUMMARY:Office Hour
END:VEVENT
BEGIN:VEVENT
UID:66623334-3264-4336-b539-636537333835
DTSTAMP:20260421T111833Z
DESCRIPTION:
DTSTART:20240126T131500Z
DTEND:20240126T150000Z
LOCATION:Günter-Hotz-Hörsaal
SUMMARY:Games I: Search
END:VEVENT
BEGIN:VEVENT
UID:31646336-6635-4861-a339-313737373639
DTSTAMP:20260421T111833Z
DESCRIPTION:
DTSTART:20240130T091500Z
DTEND:20240130T110000Z
LOCATION:Günter-Hotz-Hörsaal
SUMMARY:Games II: Learning
END:VEVENT
BEGIN:VEVENT
UID:31303136-6465-4233-b263-396564356434
DTSTAMP:20260421T111833Z
DESCRIPTION:
DTSTART:20240130T111500Z
DTEND:20240130T130000Z
LOCATION:E1 1\, Seminar Room 3.06
SUMMARY:Office Hour
END:VEVENT
BEGIN:VEVENT
UID:34656164-3233-4334-b833-613533386164
DTSTAMP:20260421T111833Z
DESCRIPTION:
DTSTART:20240201T111500Z
DTEND:20240201T130000Z
LOCATION:E1 1\, Seminar Room 3.06
SUMMARY:Office Hour
END:VEVENT
BEGIN:VEVENT
UID:33363865-3363-4639-b932-323938656533
DTSTAMP:20260421T111833Z
DESCRIPTION:
DTSTART:20240202T131500Z
DTEND:20240202T150000Z
LOCATION:Günter-Hotz-Hörsaal
SUMMARY:Games II: Learning & Trusted AI: Action Policies
END:VEVENT
BEGIN:VEVENT
UID:64616663-3435-4336-b839-363563656434
DTSTAMP:20260421T111833Z
DESCRIPTION:
DTSTART:20240206T091500Z
DTEND:20240206T110000Z
LOCATION:Günter-Hotz-Hörsaal
SUMMARY:Trusted AI: Action Policies
END:VEVENT
BEGIN:VEVENT
UID:64333138-6230-4065-b235-373731376466
DTSTAMP:20260421T111833Z
DESCRIPTION:
DTSTART:20240206T111500Z
DTEND:20240206T130000Z
LOCATION:E1 1\, Seminar Room 3.06
SUMMARY:Office Hour
END:VEVENT
BEGIN:VEVENT
UID:38323134-6237-4434-b632-646134663366
DTSTAMP:20260421T111833Z
DESCRIPTION:
DTSTART:20240208T111500Z
DTEND:20240208T130000Z
LOCATION:E1 1\, Seminar Room 3.06
SUMMARY:Office Hour
END:VEVENT
BEGIN:VEVENT
UID:37623266-6661-4539-b238-613830626235
DTSTAMP:20260421T111833Z
DESCRIPTION:
DTSTART:20240223T110000Z
DTEND:20240223T130000Z
LOCATION:E1 1\, Seminar Room 3.06
SUMMARY:Office hour
END:VEVENT
BEGIN:VEVENT
UID:64663035-3530-4132-b066-376166613931
DTSTAMP:20260421T111833Z
DESCRIPTION:
DTSTART:20240227T124500Z
DTEND:20240227T153000Z
LOCATION:Günter-Hotz Hörsaal
SUMMARY:Main Exam
END:VEVENT
BEGIN:VEVENT
UID:34653334-6665-4533-b538-623065353836
DTSTAMP:20260421T111833Z
DESCRIPTION:
DTSTART:20240307T093000Z
DTEND:20240307T110000Z
LOCATION:E1 3\, Lecture Hall 002
SUMMARY:Main Exam Inspection
END:VEVENT
BEGIN:VEVENT
UID:36646539-3331-4232-b431-636334393465
DTSTAMP:20260421T111833Z
DESCRIPTION:
DTSTART:20240319T124500Z
DTEND:20240319T150000Z
LOCATION:Günter-Hotz Hörsaal
SUMMARY:Re-Exam
END:VEVENT
BEGIN:VEVENT
UID:61336362-3331-4030-a163-616563373839
DTSTAMP:20260421T111833Z
DESCRIPTION:
DTSTART:20240325T120000Z
DTEND:20240325T133000Z
LOCATION:Seminar room 3.06\, building E1 1
SUMMARY:Re-Exam Inspection
END:VEVENT
END:VCALENDAR
