BEGIN:VCALENDAR
VERSION:2.0
PRODID:-//134.96.226.213//NONSGML kigkonsult.se iCalcreator 2.41.71//
CALSCALE:GREGORIAN
METHOD:PUBLISH
UID:39326231-3465-4230-b535-643832663634
X-WR-CALNAME:Artificial Intelligence Calendar
X-WR-CALDESC:Events of the lecture Artificial Intelligence
X-WR-TIMEZONE:Europe/Berlin
BEGIN:VEVENT
UID:39303531-3066-4733-b230-353837623262
DTSTAMP:20260421T205720Z
DESCRIPTION:
DTSTART:20190408T121500Z
DTEND:20190408T140000Z
LOCATION:E2.5\, lecture hall 1
SUMMARY:Ai: Lecture
END:VEVENT
BEGIN:VEVENT
UID:63633965-3338-4539-a432-333762643238
DTSTAMP:20260421T205720Z
DESCRIPTION:
DTSTART:20190409T141500Z
DTEND:20190409T160000Z
LOCATION:E2.2\, Günther-Hotz lecture hall
SUMMARY:Ai: Lecture
END:VEVENT
BEGIN:VEVENT
UID:62353633-3338-4338-b766-316437633161
DTSTAMP:20260421T205720Z
DESCRIPTION:
DTSTART:20190415T121500Z
DTEND:20190415T140000Z
LOCATION:E2.5\, lecture hall 1
SUMMARY:Ai: Lecture
END:VEVENT
BEGIN:VEVENT
UID:38373138-3232-4536-b436-633239306434
DTSTAMP:20260421T205720Z
DESCRIPTION:
DTSTART:20190416T141500Z
DTEND:20190416T160000Z
LOCATION:E2.2\, Günther-Hotz lecture hall
SUMMARY:Ai: Lecture
END:VEVENT
BEGIN:VEVENT
UID:61396336-3265-4530-b061-356632393736
DTSTAMP:20260421T205720Z
DESCRIPTION:
DTSTART:20190423T141500Z
DTEND:20190423T160000Z
LOCATION:E2.2\, Günther-Hotz lecture hall
SUMMARY:Ai: Lecture
END:VEVENT
BEGIN:VEVENT
UID:66363032-6561-4464-b138-363635333730
DTSTAMP:20260421T205720Z
DESCRIPTION:
DTSTART:20190429T121500Z
DTEND:20190429T140000Z
LOCATION:E2.5\, lecture hall 1
SUMMARY:Ai: Lecture
END:VEVENT
BEGIN:VEVENT
UID:31396330-3261-4365-a661-626362383038
DTSTAMP:20260421T205720Z
DESCRIPTION:
DTSTART:20190430T141500Z
DTEND:20190430T160000Z
LOCATION:E2.2\, Günther-Hotz lecture hall
SUMMARY:Ai: Lecture
END:VEVENT
BEGIN:VEVENT
UID:63653261-3061-4134-a436-306338303465
DTSTAMP:20260421T205720Z
DESCRIPTION:
DTSTART:20190506T121500Z
DTEND:20190506T140000Z
LOCATION:E2.5\, lecture hall 1
SUMMARY:Ai: Lecture
END:VEVENT
BEGIN:VEVENT
UID:31666335-3766-4635-b961-353238643639
DTSTAMP:20260421T205720Z
DESCRIPTION:
DTSTART:20190506T141500Z
DTEND:20190506T160000Z
LOCATION:E1.3\, SR014
SUMMARY:Ai: Anna's Tutorial
END:VEVENT
BEGIN:VEVENT
UID:62306637-3730-4465-a661-653031376336
DTSTAMP:20260421T205720Z
DESCRIPTION:
DTSTART:20190506T141500Z
DTEND:20190506T160000Z
LOCATION:E1.3\, SR 107
SUMMARY:Ai: Hanan's Tutorial
END:VEVENT
BEGIN:VEVENT
UID:34363363-3231-4232-b039-316564346434
DTSTAMP:20260421T205720Z
DESCRIPTION:
DTSTART:20190507T121500Z
DTEND:20190507T140000Z
LOCATION:E1.3\, SR 107
SUMMARY:Ai: Sören's Tutorial
END:VEVENT
BEGIN:VEVENT
UID:35353265-6233-4636-a436-383639303263
DTSTAMP:20260421T205720Z
DESCRIPTION:
DTSTART:20190507T121500Z
DTEND:20190507T140000Z
LOCATION:E1.3\, SR 016
SUMMARY:Ai: Thorsten's Tutorial
END:VEVENT
BEGIN:VEVENT
UID:65653837-6135-4261-b035-363461346530
DTSTAMP:20260421T205720Z
DESCRIPTION:
DTSTART:20190507T141500Z
DTEND:20190507T160000Z
LOCATION:E2.2\, Günther-Hotz lecture hall
SUMMARY:Ai: Lecture
END:VEVENT
BEGIN:VEVENT
UID:33383262-3461-4463-b830-656539616562
DTSTAMP:20260421T205720Z
DESCRIPTION:
DTSTART:20190508T081500Z
DTEND:20190508T100000Z
LOCATION:E2.1\, SR 001
SUMMARY:Ai: Doreen's Tutorial
END:VEVENT
BEGIN:VEVENT
UID:61363439-6565-4031-a235-613264336631
DTSTAMP:20260421T205720Z
DESCRIPTION:
DTSTART:20190508T101500Z
DTEND:20190508T120000Z
LOCATION:E1.4\, room 021
SUMMARY:Ai: Cosmina's Tutorial
END:VEVENT
BEGIN:VEVENT
UID:37343166-3066-4233-a133-393736623264
DTSTAMP:20260421T205720Z
DESCRIPTION:
DTSTART:20190509T081500Z
DTEND:20190509T100000Z
LOCATION:E1.3\, SR 107
SUMMARY:Ai: Aleena's Tutorial
END:VEVENT
BEGIN:VEVENT
UID:36633665-3237-4930-b732-633238386637
DTSTAMP:20260421T205720Z
DESCRIPTION:
DTSTART:20190509T101500Z
DTEND:20190509T120000Z
LOCATION:E1.3\, SR 107
SUMMARY:Ai: Marcel's Tutorial
END:VEVENT
BEGIN:VEVENT
UID:61363163-3132-4231-b663-663062646631
DTSTAMP:20260421T205720Z
DESCRIPTION:
DTSTART:20190510T121500Z
DTEND:20190510T140000Z
LOCATION:E1.1 room 3.06
SUMMARY:Ai: Office Hour for Practical Sheet 1
END:VEVENT
BEGIN:VEVENT
UID:36616663-6564-4236-a464-333232343534
DTSTAMP:20260421T205720Z
DESCRIPTION:
DTSTART:20190513T121500Z
DTEND:20190513T140000Z
LOCATION:E2.5\, lecture hall 1
SUMMARY:Ai: Lecture
END:VEVENT
BEGIN:VEVENT
UID:66393661-3534-4863-b666-373732303961
DTSTAMP:20260421T205720Z
DESCRIPTION:
DTSTART:20190513T141500Z
DTEND:20190513T160000Z
LOCATION:E1.3\, SR014
SUMMARY:Ai: Anna's Tutorial
END:VEVENT
BEGIN:VEVENT
UID:37663263-3533-4366-b034-613931663736
DTSTAMP:20260421T205720Z
DESCRIPTION:
DTSTART:20190513T141500Z
DTEND:20190513T160000Z
LOCATION:E1.3\, SR 107
SUMMARY:Ai: Hanan's Tutorial
END:VEVENT
BEGIN:VEVENT
UID:30636439-3235-4738-b838-373430623339
DTSTAMP:20260421T205720Z
DESCRIPTION:
DTSTART:20190514T121500Z
DTEND:20190514T140000Z
LOCATION:E1.3\, SR 016
SUMMARY:Ai: Thorsten's Tutorial
END:VEVENT
BEGIN:VEVENT
UID:66643832-6665-4432-b835-336431363761
DTSTAMP:20260421T205720Z
DESCRIPTION:
DTSTART:20190514T121500Z
DTEND:20190514T140000Z
LOCATION:E1.3\, SR 107
SUMMARY:Ai: Sören's Tutorial
END:VEVENT
BEGIN:VEVENT
UID:31363862-6533-4761-b638-373238653666
DTSTAMP:20260421T205720Z
DESCRIPTION:
DTSTART:20190514T141500Z
DTEND:20190514T160000Z
LOCATION:E2.2\, Günther-Hotz lecture hall
SUMMARY:Ai: Lecture
END:VEVENT
BEGIN:VEVENT
UID:33623436-6335-4532-a632-616336346533
DTSTAMP:20260421T205720Z
DESCRIPTION:
DTSTART:20190515T081500Z
DTEND:20190515T100000Z
LOCATION:E2.1\, SR 001
SUMMARY:Ai: Doreen's Tutorial
END:VEVENT
BEGIN:VEVENT
UID:64343761-6266-4032-b632-623162643036
DTSTAMP:20260421T205720Z
DESCRIPTION:
DTSTART:20190515T101500Z
DTEND:20190515T120000Z
LOCATION:E1.4\, room 021
SUMMARY:Ai: Cosmina's Tutorial
END:VEVENT
BEGIN:VEVENT
UID:39343061-6232-4363-a332-633631393765
DTSTAMP:20260421T205720Z
DESCRIPTION:
DTSTART:20190516T081500Z
DTEND:20190516T100000Z
LOCATION:E1.3\, SR 107
SUMMARY:Ai: Aleena's Tutorial
END:VEVENT
BEGIN:VEVENT
UID:64323033-3538-4630-a231-656662393035
DTSTAMP:20260421T205720Z
DESCRIPTION:
DTSTART:20190516T101500Z
DTEND:20190516T120000Z
LOCATION:E1.3\, SR 107
SUMMARY:Ai: Marcel's Tutorial
END:VEVENT
BEGIN:VEVENT
UID:62396130-6330-4330-b561-313438666333
DTSTAMP:20260421T205720Z
DESCRIPTION:
DTSTART:20190520T121500Z
DTEND:20190520T140000Z
LOCATION:E2.5\, lecture hall 1
SUMMARY:Ai: Lecture
END:VEVENT
BEGIN:VEVENT
UID:32396534-6534-4438-b238-623065646639
DTSTAMP:20260421T205720Z
DESCRIPTION:
DTSTART:20190520T141500Z
DTEND:20190520T160000Z
LOCATION:E1.3\, SR014
SUMMARY:Ai: Anna's Tutorial
END:VEVENT
BEGIN:VEVENT
UID:34383934-6639-4362-a361-613432633130
DTSTAMP:20260421T205720Z
DESCRIPTION:
DTSTART:20190520T141500Z
DTEND:20190520T160000Z
LOCATION:E1.3\, SR 107
SUMMARY:Ai: Hanan's Tutorial
END:VEVENT
BEGIN:VEVENT
UID:33633963-6337-4563-b666-356231393864
DTSTAMP:20260421T205720Z
DESCRIPTION:
DTSTART:20190521T121500Z
DTEND:20190521T140000Z
LOCATION:E1.3\, SR 107
SUMMARY:Ai: Sören's Tutorial
END:VEVENT
BEGIN:VEVENT
UID:31326466-3566-4532-b963-613435313035
DTSTAMP:20260421T205720Z
DESCRIPTION:
DTSTART:20190521T121500Z
DTEND:20190521T140000Z
LOCATION:E1.3\, SR 016
SUMMARY:Ai: Thorsten's Tutorial
END:VEVENT
BEGIN:VEVENT
UID:32626538-6164-4363-b239-316662656364
DTSTAMP:20260421T205720Z
DESCRIPTION:
DTSTART:20190521T141500Z
DTEND:20190521T160000Z
LOCATION:E2.2\, Günther-Hotz lecture hall
SUMMARY:Ai: Lecture
END:VEVENT
BEGIN:VEVENT
UID:32613531-3336-4233-b130-326361663430
DTSTAMP:20260421T205720Z
DESCRIPTION:
DTSTART:20190522T081500Z
DTEND:20190522T100000Z
LOCATION:E2.1\, SR 001
SUMMARY:Ai: Doreen's Tutorial
END:VEVENT
BEGIN:VEVENT
UID:34386331-6532-4332-b365-316639353632
DTSTAMP:20260421T205720Z
DESCRIPTION:
DTSTART:20190522T101500Z
DTEND:20190522T120000Z
LOCATION:E1.4\, room 021
SUMMARY:Ai: Cosmina's Tutorial
END:VEVENT
BEGIN:VEVENT
UID:65363239-6532-4235-a466-323330653638
DTSTAMP:20260421T205720Z
DESCRIPTION:
DTSTART:20190523T081500Z
DTEND:20190523T100000Z
LOCATION:E1.3\, SR 107
SUMMARY:Ai: Aleena's Tutorial
END:VEVENT
BEGIN:VEVENT
UID:66653038-6339-4732-b131-663266366239
DTSTAMP:20260421T205720Z
DESCRIPTION:
DTSTART:20190523T101500Z
DTEND:20190523T120000Z
LOCATION:E1.3\, SR 107
SUMMARY:Ai: Marcel's Tutorial
END:VEVENT
BEGIN:VEVENT
UID:35383930-3433-4764-b237-396538643837
DTSTAMP:20260421T205720Z
DESCRIPTION:
DTSTART:20190527T121500Z
DTEND:20190527T140000Z
LOCATION:E2.5\, lecture hall 1
SUMMARY:Ai: Lecture
END:VEVENT
BEGIN:VEVENT
UID:63393164-3038-4036-b735-353666343435
DTSTAMP:20260421T205720Z
DESCRIPTION:
DTSTART:20190527T141500Z
DTEND:20190527T160000Z
LOCATION:E1.3\, SR 107
SUMMARY:Ai: Hanan's Tutorial
END:VEVENT
BEGIN:VEVENT
UID:64386234-3966-4831-b639-343135383734
DTSTAMP:20260421T205720Z
DESCRIPTION:Please note the changed time!
DTSTART:20190528T081500Z
DTEND:20190528T100000Z
LOCATION:E1.3\, SR 107
SUMMARY:Ai: Marcel's Tutorial
END:VEVENT
BEGIN:VEVENT
UID:63313733-3066-4462-a431-633461336564
DTSTAMP:20260421T205720Z
DESCRIPTION:
DTSTART:20190528T121500Z
DTEND:20190528T140000Z
LOCATION:E1.3\, SR 107
SUMMARY:Ai: Sören's Tutorial
END:VEVENT
BEGIN:VEVENT
UID:35633735-3234-4232-b639-396166633138
DTSTAMP:20260421T205720Z
DESCRIPTION:
DTSTART:20190528T121500Z
DTEND:20190528T140000Z
LOCATION:E1.3\, SR 016
SUMMARY:Ai: Thorsten's Tutorial
END:VEVENT
BEGIN:VEVENT
UID:34323266-6630-4962-a362-626466346566
DTSTAMP:20260421T205720Z
DESCRIPTION:
DTSTART:20190528T141500Z
DTEND:20190528T160000Z
LOCATION:E2.2\, Günther-Hotz lecture hall
SUMMARY:Ai: Lecture
END:VEVENT
BEGIN:VEVENT
UID:32363433-3530-4636-a666-653466323636
DTSTAMP:20260421T205720Z
DESCRIPTION:Please note the changed time and room.
DTSTART:20190529T081500Z
DTEND:20190529T100000Z
LOCATION:E1.3\, HS 003
SUMMARY:Ai: Aleena's Tutorial
END:VEVENT
BEGIN:VEVENT
UID:31396364-6365-4461-a362-323332663164
DTSTAMP:20260421T205720Z
DESCRIPTION:
DTSTART:20190529T081500Z
DTEND:20190529T100000Z
LOCATION:E2.1\, SR 001
SUMMARY:Ai: Doreen's Tutorial
END:VEVENT
BEGIN:VEVENT
UID:36326338-6263-4031-a630-623439303839
DTSTAMP:20260421T205720Z
DESCRIPTION:
DTSTART:20190529T101500Z
DTEND:20190529T120000Z
LOCATION:E1.4\, room 021
SUMMARY:Ai: Cosmina's Tutorial
END:VEVENT
BEGIN:VEVENT
UID:32383261-6135-4662-a236-626165653739
DTSTAMP:20260421T205720Z
DESCRIPTION:
DTSTART:20190529T121500Z
DTEND:20190529T140000Z
LOCATION:E1.1\, SR306
SUMMARY:Ai: Anna's Tutorial
END:VEVENT
BEGIN:VEVENT
UID:31333064-3537-4635-b333-373830363966
DTSTAMP:20260421T205720Z
DESCRIPTION:
DTSTART:20190603T121500Z
DTEND:20190603T140000Z
LOCATION:E2.5\, lecture hall 1
SUMMARY:Ai: Lecture
END:VEVENT
BEGIN:VEVENT
UID:33393136-3235-4061-a137-303363363963
DTSTAMP:20260421T205720Z
DESCRIPTION:
DTSTART:20190603T141500Z
DTEND:20190603T160000Z
LOCATION:E1.3\, SR014
SUMMARY:Ai: Anna's Tutorial
END:VEVENT
BEGIN:VEVENT
UID:38363839-3637-4138-b334-396136666237
DTSTAMP:20260421T205720Z
DESCRIPTION:
DTSTART:20190603T141500Z
DTEND:20190603T160000Z
LOCATION:E1.3\, SR 107
SUMMARY:Ai: Hanan's Tutorial
END:VEVENT
BEGIN:VEVENT
UID:35616362-3564-4762-a330-316537333764
DTSTAMP:20260421T205720Z
DESCRIPTION:
DTSTART:20190604T121500Z
DTEND:20190604T140000Z
LOCATION:E1.3\, SR 016
SUMMARY:Ai: Thorsten's Tutorial
END:VEVENT
BEGIN:VEVENT
UID:64373137-3563-4632-a437-386665316664
DTSTAMP:20260421T205720Z
DESCRIPTION:
DTSTART:20190604T141500Z
DTEND:20190604T160000Z
LOCATION:E2.2\, Günther-Hotz lecture hall
SUMMARY:Ai: Lecture
END:VEVENT
BEGIN:VEVENT
UID:35303932-3431-4462-b665-353635386562
DTSTAMP:20260421T205720Z
DESCRIPTION:
DTSTART:20190605T081500Z
DTEND:20190605T100000Z
LOCATION:E2.1\, SR 001
SUMMARY:Ai: Doreen's Tutorial
END:VEVENT
BEGIN:VEVENT
UID:38626538-3539-4061-b837-303133366434
DTSTAMP:20260421T205720Z
DESCRIPTION:
DTSTART:20190605T101500Z
DTEND:20190605T120000Z
LOCATION:E1.4\, room 021
SUMMARY:Ai: Cosmina's Tutorial
END:VEVENT
BEGIN:VEVENT
UID:38663336-3863-4838-b335-363561623365
DTSTAMP:20260421T205720Z
DESCRIPTION:
DTSTART:20190606T081500Z
DTEND:20190606T100000Z
LOCATION:E1.3\, SR 107
SUMMARY:Ai: Aleena's Tutorial
END:VEVENT
BEGIN:VEVENT
UID:64373133-3139-4439-b834-323064373962
DTSTAMP:20260421T205720Z
DESCRIPTION:
DTSTART:20190606T101500Z
DTEND:20190606T120000Z
LOCATION:E1.3\, SR 107
SUMMARY:Ai: Marcel's Tutorial
END:VEVENT
BEGIN:VEVENT
UID:66633733-6639-4934-b830-386561343063
DTSTAMP:20260421T205720Z
DESCRIPTION:Please note the changed time!
DTSTART:20190611T081500Z
DTEND:20190611T100000Z
LOCATION:E1.3\, SR 107
SUMMARY:Ai: Hanan's Tutorial
END:VEVENT
BEGIN:VEVENT
UID:66323231-6233-4264-b834-316439636136
DTSTAMP:20260421T205720Z
DESCRIPTION:
DTSTART:20190611T121500Z
DTEND:20190611T140000Z
LOCATION:E1.3\, SR 107
SUMMARY:Ai: Sören's Tutorial
END:VEVENT
BEGIN:VEVENT
UID:34633938-3864-4666-a535-343366386335
DTSTAMP:20260421T205720Z
DESCRIPTION:
DTSTART:20190611T121500Z
DTEND:20190611T140000Z
LOCATION:E1.3\, SR 016
SUMMARY:Ai: Thorsten's Tutorial
END:VEVENT
BEGIN:VEVENT
UID:36383030-6332-4639-a339-613833383138
DTSTAMP:20260421T205720Z
DESCRIPTION:
DTSTART:20190611T141500Z
DTEND:20190611T160000Z
LOCATION:E2.2\, Günther-Hotz lecture hall
SUMMARY:Ai: Lecture
END:VEVENT
BEGIN:VEVENT
UID:65356231-3865-4962-a466-633736656364
DTSTAMP:20260421T205720Z
DESCRIPTION:
DTSTART:20190612T081500Z
DTEND:20190612T100000Z
LOCATION:E2.1\, SR 001
SUMMARY:Ai: Doreen's Tutorial
END:VEVENT
BEGIN:VEVENT
UID:62386537-3333-4330-a534-376561336261
DTSTAMP:20260421T205720Z
DESCRIPTION:
DTSTART:20190612T101500Z
DTEND:20190612T120000Z
LOCATION:E1.4\, room 021
SUMMARY:Ai: Cosmina's Tutorial
END:VEVENT
BEGIN:VEVENT
UID:30353233-3363-4436-b762-356532343265
DTSTAMP:20260421T205720Z
DESCRIPTION:
DTSTART:20190612T121500Z
DTEND:20190612T141500Z
LOCATION:E1.1\, SR306
SUMMARY:Ai: Anna's Tutorial
END:VEVENT
BEGIN:VEVENT
UID:36343466-6138-4533-a431-326165623936
DTSTAMP:20260421T205720Z
DESCRIPTION:
DTSTART:20190613T081500Z
DTEND:20190613T100000Z
LOCATION:E1.3\, SR 107
SUMMARY:Ai: Aleena's Tutorial
END:VEVENT
BEGIN:VEVENT
UID:65356663-3234-4230-b739-353763613161
DTSTAMP:20260421T205720Z
DESCRIPTION:
DTSTART:20190613T101500Z
DTEND:20190613T120000Z
LOCATION:E1.3\, SR 107
SUMMARY:Ai: Marcel's Tutorial
END:VEVENT
BEGIN:VEVENT
UID:64653834-3663-4664-b862-643134373661
DTSTAMP:20260421T205720Z
DESCRIPTION:
DTSTART:20190617T121500Z
DTEND:20190617T140000Z
LOCATION:E2.5\, lecture hall 1
SUMMARY:Ai: Lecture
END:VEVENT
BEGIN:VEVENT
UID:35303137-3536-4930-b034-646566656234
DTSTAMP:20260421T205720Z
DESCRIPTION:
DTSTART:20190617T141500Z
DTEND:20190617T160000Z
LOCATION:E1.3\, SR 107
SUMMARY:Ai: Hanan's Tutorial
END:VEVENT
BEGIN:VEVENT
UID:65643334-3563-4630-b632-376264626638
DTSTAMP:20260421T205720Z
DESCRIPTION:
DTSTART:20190617T141500Z
DTEND:20190617T160000Z
LOCATION:E1.3\, SR014
SUMMARY:Ai: Anna's Tutorial
END:VEVENT
BEGIN:VEVENT
UID:33356632-3066-4164-b635-643130643535
DTSTAMP:20260421T205720Z
DESCRIPTION:Please note the changed time!
DTSTART:20190618T081500Z
DTEND:20190618T100000Z
LOCATION:E1.3\, SR 107
SUMMARY:Ai: Marcel's Tutorial
END:VEVENT
BEGIN:VEVENT
UID:37663561-3336-4566-a138-363963346436
DTSTAMP:20260421T205720Z
DESCRIPTION:
DTSTART:20190618T121500Z
DTEND:20190618T140000Z
LOCATION:E1.3\, SR 107
SUMMARY:Ai: Sören's Tutorial
END:VEVENT
BEGIN:VEVENT
UID:31363237-3364-4439-b762-356666323766
DTSTAMP:20260421T205720Z
DESCRIPTION:
DTSTART:20190618T121500Z
DTEND:20190618T140000Z
LOCATION:E1.3\, SR 016
SUMMARY:Ai: Thorsten's Tutorial
END:VEVENT
BEGIN:VEVENT
UID:63313263-3438-4665-a265-323764343662
DTSTAMP:20260421T205720Z
DESCRIPTION:
DTSTART:20190618T141500Z
DTEND:20190618T160000Z
LOCATION:E2.2\, Günther-Hotz lecture hall
SUMMARY:Ai: Lecture
END:VEVENT
BEGIN:VEVENT
UID:34393466-6135-4861-a463-636438363262
DTSTAMP:20260421T205720Z
DESCRIPTION:
DTSTART:20190619T081500Z
DTEND:20190619T100000Z
LOCATION:E2.1\, SR 001
SUMMARY:Ai: Doreen's Tutorial
END:VEVENT
BEGIN:VEVENT
UID:32323937-3134-4431-a264-343136366237
DTSTAMP:20260421T205720Z
DESCRIPTION:
DTSTART:20190619T101500Z
DTEND:20190619T120000Z
LOCATION:E1.4\, room 021
SUMMARY:Ai: Cosmina's Tutorial
END:VEVENT
BEGIN:VEVENT
UID:33323663-3765-4339-a631-653933363064
DTSTAMP:20260421T205720Z
DESCRIPTION:Please note the changed time.
DTSTART:20190621T081500Z
DTEND:20190621T100000Z
LOCATION:E1.3\, SR 107
SUMMARY:Ai: Aleena's Tutorial
END:VEVENT
BEGIN:VEVENT
UID:32383431-6565-4762-a163-323438386361
DTSTAMP:20260421T205720Z
DESCRIPTION:
DTSTART:20190624T121500Z
DTEND:20190624T140000Z
LOCATION:E2.5\, lecture hall 1
SUMMARY:Ai: Lecture
END:VEVENT
BEGIN:VEVENT
UID:30626631-3937-4734-a438-623234653362
DTSTAMP:20260421T205720Z
DESCRIPTION:
DTSTART:20190624T141500Z
DTEND:20190624T160000Z
LOCATION:E1.3\, SR014
SUMMARY:Ai: Anna's Tutorial
END:VEVENT
BEGIN:VEVENT
UID:62353164-3636-4135-a234-356665393930
DTSTAMP:20260421T205720Z
DESCRIPTION:
DTSTART:20190624T141500Z
DTEND:20190624T160000Z
LOCATION:E1.3\, SR 107
SUMMARY:Ai: Hanan's Tutorial
END:VEVENT
BEGIN:VEVENT
UID:66346138-6336-4364-a666-303365333234
DTSTAMP:20260421T205720Z
DESCRIPTION:
DTSTART:20190625T121500Z
DTEND:20190625T140000Z
LOCATION:E1.3\, SR 107
SUMMARY:Ai: Sören's Tutorial
END:VEVENT
BEGIN:VEVENT
UID:35346461-3661-4434-a636-346163306466
DTSTAMP:20260421T205720Z
DESCRIPTION:
DTSTART:20190625T121500Z
DTEND:20190625T140000Z
LOCATION:E1.3\, SR 016
SUMMARY:Ai: Thorsten's Tutorial
END:VEVENT
BEGIN:VEVENT
UID:66343463-3838-4534-b336-333938663563
DTSTAMP:20260421T205720Z
DESCRIPTION:
DTSTART:20190625T141500Z
DTEND:20190625T160000Z
LOCATION:E2.2\, Günther-Hotz lecture hall
SUMMARY:Ai: Lecture
END:VEVENT
BEGIN:VEVENT
UID:30636637-6533-4133-b066-326664336339
DTSTAMP:20260421T205720Z
DESCRIPTION:
DTSTART:20190626T081500Z
DTEND:20190626T100000Z
LOCATION:E2.1\, SR 001
SUMMARY:Ai: Doreen's Tutorial
END:VEVENT
BEGIN:VEVENT
UID:34303535-6465-4961-b832-653965353930
DTSTAMP:20260421T205720Z
DESCRIPTION:
DTSTART:20190626T101500Z
DTEND:20190626T120000Z
LOCATION:E1.4\, room 021
SUMMARY:Ai: Cosmina's Tutorial
END:VEVENT
BEGIN:VEVENT
UID:32633933-6632-4264-b164-653130323932
DTSTAMP:20260421T205720Z
DESCRIPTION:
DTSTART:20190627T081500Z
DTEND:20190627T100000Z
LOCATION:E1.3\, SR 107
SUMMARY:Ai: Aleena's Tutorial
END:VEVENT
BEGIN:VEVENT
UID:39303764-3037-4162-a637-646439366537
DTSTAMP:20260421T205720Z
DESCRIPTION:
DTSTART:20190627T101500Z
DTEND:20190627T120000Z
LOCATION:E1.3\, SR 107
SUMMARY:Ai: Marcel's Tutorial
END:VEVENT
BEGIN:VEVENT
UID:35613830-3362-4631-b131-373864393961
DTSTAMP:20260421T205720Z
DESCRIPTION:
DTSTART:20190701T121500Z
DTEND:20190701T140000Z
LOCATION:E2.5\, lecture hall 1
SUMMARY:Ai: Lecture
END:VEVENT
BEGIN:VEVENT
UID:39386335-3536-4738-b534-306263396637
DTSTAMP:20260421T205720Z
DESCRIPTION:
DTSTART:20190701T141500Z
DTEND:20190701T160000Z
LOCATION:E1.3\, SR 107
SUMMARY:Ai: Hanan's Tutorial
END:VEVENT
BEGIN:VEVENT
UID:38623036-6535-4266-a235-303535353761
DTSTAMP:20260421T205720Z
DESCRIPTION:
DTSTART:20190701T141500Z
DTEND:20190701T160000Z
LOCATION:E1.3\, SR014
SUMMARY:Ai: Anna's Tutorial
END:VEVENT
BEGIN:VEVENT
UID:37366432-6637-4030-b864-363633343235
DTSTAMP:20260421T205720Z
DESCRIPTION:
DTSTART:20190702T121500Z
DTEND:20190702T140000Z
LOCATION:E1.3\, SR 016
SUMMARY:Ai: Thorsten's Tutorial
END:VEVENT
BEGIN:VEVENT
UID:64633865-3333-4261-a566-336535636663
DTSTAMP:20260421T205720Z
DESCRIPTION:
DTSTART:20190702T121500Z
DTEND:20190702T140000Z
LOCATION:E1.3\, SR 107
SUMMARY:Ai: Sören's Tutorial
END:VEVENT
BEGIN:VEVENT
UID:38643534-6630-4535-a437-653161386666
DTSTAMP:20260421T205720Z
DESCRIPTION:
DTSTART:20190702T141500Z
DTEND:20190702T160000Z
LOCATION:E2.2\, Günther-Hotz lecture hall
SUMMARY:Ai: Lecture
END:VEVENT
BEGIN:VEVENT
UID:32336539-3261-4239-b036-623031393832
DTSTAMP:20260421T205720Z
DESCRIPTION:
DTSTART:20190703T081500Z
DTEND:20190703T100000Z
LOCATION:E2.1\, SR 001
SUMMARY:Ai: Doreen's Tutorial
END:VEVENT
BEGIN:VEVENT
UID:35613835-3431-4663-b235-393864363635
DTSTAMP:20260421T205720Z
DESCRIPTION:
DTSTART:20190703T101500Z
DTEND:20190703T120000Z
LOCATION:E1.4\, room 021
SUMMARY:Ai: Cosmina's Tutorial
END:VEVENT
BEGIN:VEVENT
UID:38326235-3138-4261-a562-646166626237
DTSTAMP:20260421T205720Z
DESCRIPTION:
DTSTART:20190704T081500Z
DTEND:20190704T100000Z
LOCATION:E1.3\, SR 107
SUMMARY:Ai: Aleena's Tutorial
END:VEVENT
BEGIN:VEVENT
UID:33346563-3836-4233-a531-633463653866
DTSTAMP:20260421T205720Z
DESCRIPTION:
DTSTART:20190704T101500Z
DTEND:20190704T120000Z
LOCATION:E1.3\, SR 107
SUMMARY:Ai: Marcel's Tutorial
END:VEVENT
BEGIN:VEVENT
UID:35306634-6335-4863-b332-303962646263
DTSTAMP:20260421T205720Z
DESCRIPTION:
DTSTART:20190708T121500Z
DTEND:20190708T140000Z
LOCATION:E2.5\, lecture hall 1
SUMMARY:Ai: Lecture
END:VEVENT
BEGIN:VEVENT
UID:61643766-6235-4863-a636-333632353138
DTSTAMP:20260421T205720Z
DESCRIPTION:
DTSTART:20190708T141500Z
DTEND:20190708T160000Z
LOCATION:E1.3\, SR 107
SUMMARY:Ai: Hanan's Tutorial
END:VEVENT
BEGIN:VEVENT
UID:61646362-3165-4239-a464-396161656465
DTSTAMP:20260421T205720Z
DESCRIPTION:
DTSTART:20190708T141500Z
DTEND:20190708T160000Z
LOCATION:E1.3\, SR014
SUMMARY:Ai: Anna's Tutorial
END:VEVENT
BEGIN:VEVENT
UID:39303639-3532-4637-b639-363565366636
DTSTAMP:20260421T205720Z
DESCRIPTION:
DTSTART:20190709T121500Z
DTEND:20190709T140000Z
LOCATION:E1.3\, SR 107
SUMMARY:Ai: Sören's Tutorial
END:VEVENT
BEGIN:VEVENT
UID:31316561-3931-4534-b964-643066346634
DTSTAMP:20260421T205720Z
DESCRIPTION:
DTSTART:20190709T121500Z
DTEND:20190709T140000Z
LOCATION:E1.3\, SR 016
SUMMARY:Ai: Thorsten's Tutorial
END:VEVENT
BEGIN:VEVENT
UID:36626331-3133-4036-b633-316332363662
DTSTAMP:20260421T205720Z
DESCRIPTION:
DTSTART:20190709T141500Z
DTEND:20190709T160000Z
LOCATION:E2.2\, Günther-Hotz lecture hall
SUMMARY:Ai: Lecture
END:VEVENT
BEGIN:VEVENT
UID:32656633-3966-4832-a237-316363343565
DTSTAMP:20260421T205720Z
DESCRIPTION:
DTSTART:20190710T081500Z
DTEND:20190710T100000Z
LOCATION:E2.1\, SR 001
SUMMARY:Ai: Doreen's Tutorial
END:VEVENT
BEGIN:VEVENT
UID:34363330-3765-4338-b932-313433663133
DTSTAMP:20260421T205720Z
DESCRIPTION:
DTSTART:20190710T101500Z
DTEND:20190710T120000Z
LOCATION:E1.4\, room 021
SUMMARY:Ai: Cosmina's Tutorial
END:VEVENT
BEGIN:VEVENT
UID:66333238-6263-4633-a136-316335323366
DTSTAMP:20260421T205720Z
DESCRIPTION:
DTSTART:20190711T081500Z
DTEND:20190711T100000Z
LOCATION:E1.3\, SR 107
SUMMARY:Ai: Aleena's Tutorial
END:VEVENT
BEGIN:VEVENT
UID:31326535-3434-4533-b662-656631336232
DTSTAMP:20260421T205720Z
DESCRIPTION:
DTSTART:20190711T101500Z
DTEND:20190711T120000Z
LOCATION:E1.3\, SR 107
SUMMARY:Ai: Marcel's Tutorial
END:VEVENT
BEGIN:VEVENT
UID:31383135-3062-4331-b037-623835336662
DTSTAMP:20260421T205720Z
DESCRIPTION:
DTSTART:20190715T121500Z
DTEND:20190715T140000Z
LOCATION:E2.5\, lecture hall 1
SUMMARY:Ai: Lecture
END:VEVENT
BEGIN:VEVENT
UID:66303331-6431-4638-a432-623139323239
DTSTAMP:20260421T205720Z
DESCRIPTION:
DTSTART:20190715T141500Z
DTEND:20190715T160000Z
LOCATION:E1.3\, SR014
SUMMARY:Ai: Anna's Tutorial
END:VEVENT
BEGIN:VEVENT
UID:61613665-3563-4136-a531-343732646539
DTSTAMP:20260421T205720Z
DESCRIPTION:
DTSTART:20190715T141500Z
DTEND:20190715T160000Z
LOCATION:E1.3\, SR 107
SUMMARY:Ai: Hanan's Tutorial
END:VEVENT
BEGIN:VEVENT
UID:30396636-3861-4966-b631-333835646365
DTSTAMP:20260421T205720Z
DESCRIPTION:
DTSTART:20190716T121500Z
DTEND:20190716T140000Z
LOCATION:E1.3\, SR 107
SUMMARY:Ai: Sören's Tutorial
END:VEVENT
BEGIN:VEVENT
UID:33346239-3865-4839-a636-346264633837
DTSTAMP:20260421T205720Z
DESCRIPTION:
DTSTART:20190716T121500Z
DTEND:20190716T140000Z
LOCATION:E1.3\, SR 016
SUMMARY:Ai: Thorsten's Tutorial
END:VEVENT
BEGIN:VEVENT
UID:31393864-3131-4365-b231-313762323965
DTSTAMP:20260421T205720Z
DESCRIPTION:
DTSTART:20190716T141500Z
DTEND:20190716T160000Z
LOCATION:E2.2\, Günther-Hotz lecture hall
SUMMARY:Ai: Lecture
END:VEVENT
BEGIN:VEVENT
UID:66303431-3964-4564-b238-646462383034
DTSTAMP:20260421T205720Z
DESCRIPTION:
DTSTART:20190717T081500Z
DTEND:20190717T100000Z
LOCATION:E2.1\, SR 001
SUMMARY:Ai: Doreen's Tutorial
END:VEVENT
BEGIN:VEVENT
UID:36666238-3563-4262-a538-633339633364
DTSTAMP:20260421T205720Z
DESCRIPTION:
DTSTART:20190717T101500Z
DTEND:20190717T120000Z
LOCATION:E1.4\, room 021
SUMMARY:Ai: Cosmina's Tutorial
END:VEVENT
BEGIN:VEVENT
UID:36343339-6337-4434-a264-386364663263
DTSTAMP:20260421T205720Z
DESCRIPTION:
DTSTART:20190718T081500Z
DTEND:20190718T100000Z
LOCATION:E1.3\, SR 107
SUMMARY:Ai: Aleena's Tutorial
END:VEVENT
BEGIN:VEVENT
UID:63323531-3965-4636-a362-623338373766
DTSTAMP:20260421T205720Z
DESCRIPTION:
DTSTART:20190718T101500Z
DTEND:20190718T120000Z
LOCATION:E1.3\, SR 107
SUMMARY:Ai: Marcel's Tutorial
END:VEVENT
BEGIN:VEVENT
UID:62646639-6266-4230-a564-386134663266
DTSTAMP:20260421T205720Z
DESCRIPTION:
DTSTART:20190724T120000Z
DTEND:20190724T140000Z
SUMMARY:Ai: First Exam
END:VEVENT
BEGIN:VEVENT
UID:34343136-3935-4539-a137-386131303763
DTSTAMP:20260421T205720Z
DESCRIPTION:
DTSTART:20190731T120000Z
DTEND:20190731T140000Z
LOCATION:E1.1\, room 3.06
SUMMARY:Ai: Exam Inspection
END:VEVENT
BEGIN:VEVENT
UID:63623664-6337-4433-b533-343564393034
DTSTAMP:20260421T205720Z
DESCRIPTION:
DTSTART:20190923T120000Z
DTEND:20190923T140000Z
SUMMARY:Ai: Second Exam
END:VEVENT
BEGIN:VEVENT
UID:65643636-3731-4466-a362-373936633739
DTSTAMP:20260421T205720Z
DESCRIPTION:
DTSTART:20190927T080000Z
DTEND:20190927T100000Z
LOCATION:E1.1\, room 3.06
SUMMARY:Ai: Exam Inspection
END:VEVENT
END:VCALENDAR
