BEGIN:VCALENDAR
VERSION:2.0
PRODID:-//134.96.226.213//NONSGML kigkonsult.se iCalcreator 2.41.71//
CALSCALE:GREGORIAN
METHOD:PUBLISH
UID:66326263-3331-4135-a165-373630323561
X-WR-CALNAME:Artificial Intelligence Calendar
X-WR-CALDESC:Events of the lecture Artificial Intelligence
X-WR-TIMEZONE:Europe/Berlin
BEGIN:VEVENT
UID:36303963-6465-4039-b961-323761316162
DTSTAMP:20260421T205949Z
DESCRIPTION:
DTSTART:20190510T121500Z
DTEND:20190510T140000Z
LOCATION:E1.1 room 3.06
SUMMARY:Ai: Office Hour for Practical Sheet 1
END:VEVENT
END:VCALENDAR
