BEGIN:VCALENDAR
VERSION:2.0
PRODID:-//134.96.226.213//NONSGML kigkonsult.se iCalcreator 2.41.71//
CALSCALE:GREGORIAN
METHOD:PUBLISH
UID:35613539-6234-4434-b739-646535386236
X-WR-CALNAME:Artificial Intelligence Calendar
X-WR-CALDESC:Events of the lecture Artificial Intelligence
X-WR-TIMEZONE:Europe/Berlin
BEGIN:VEVENT
UID:62653734-6231-4764-a539-636238383438
DTSTAMP:20260421T205815Z
DESCRIPTION:
DTSTART:20190510T121500Z
DTEND:20190510T140000Z
LOCATION:E1.1 room 3.06
SUMMARY:Office Hour for Practical Sheet 1
END:VEVENT
END:VCALENDAR
