BEGIN:VCALENDAR
VERSION:2.0
PRODID:-//134.96.226.213//NONSGML kigkonsult.se iCalcreator 2.41.71//
CALSCALE:GREGORIAN
METHOD:PUBLISH
UID:38393966-3337-4262-b537-636262336634
X-WR-CALNAME:Artificial Intelligence Calendar
X-WR-CALDESC:Events of the lecture Artificial Intelligence
X-WR-TIMEZONE:Europe/Berlin
BEGIN:VEVENT
UID:30633030-3437-4132-a132-613364313938
DTSTAMP:20260421T205720Z
DESCRIPTION:
DTSTART:20190724T120000Z
DTEND:20190724T140000Z
SUMMARY:First Exam
END:VEVENT
BEGIN:VEVENT
UID:39356266-3562-4832-a564-306137643064
DTSTAMP:20260421T205720Z
DESCRIPTION:
DTSTART:20190731T120000Z
DTEND:20190731T140000Z
LOCATION:E1.1\, room 3.06
SUMMARY:Exam Inspection
END:VEVENT
BEGIN:VEVENT
UID:61663637-3531-4263-b435-306330346564
DTSTAMP:20260421T205720Z
DESCRIPTION:
DTSTART:20190923T120000Z
DTEND:20190923T140000Z
SUMMARY:Second Exam
END:VEVENT
BEGIN:VEVENT
UID:65303562-3031-4833-b265-303730393037
DTSTAMP:20260421T205720Z
DESCRIPTION:
DTSTART:20190927T080000Z
DTEND:20190927T100000Z
LOCATION:E1.1\, room 3.06
SUMMARY:Exam Inspection
END:VEVENT
END:VCALENDAR
