BEGIN:VCALENDAR
VERSION:2.0
PRODID:-//134.96.226.213//NONSGML kigkonsult.se iCalcreator 2.41.71//
CALSCALE:GREGORIAN
METHOD:PUBLISH
UID:34356566-3961-4435-a230-333934396566
X-WR-CALNAME:Artificial Intelligence Calendar
X-WR-CALDESC:Events of the lecture Artificial Intelligence
X-WR-TIMEZONE:Europe/Berlin
BEGIN:VEVENT
UID:66656564-6165-4334-a366-396564613134
DTSTAMP:20260421T205713Z
DESCRIPTION:
DTSTART:20190506T141500Z
DTEND:20190506T160000Z
LOCATION:E1.3\, SR 107
SUMMARY:Hanan's Tutorial
END:VEVENT
BEGIN:VEVENT
UID:65313061-6638-4333-b066-653031613761
DTSTAMP:20260421T205713Z
DESCRIPTION:
DTSTART:20190506T141500Z
DTEND:20190506T160000Z
LOCATION:E1.3\, SR014
SUMMARY:Anna's Tutorial
END:VEVENT
BEGIN:VEVENT
UID:37643035-3766-4039-a630-313266326164
DTSTAMP:20260421T205713Z
DESCRIPTION:
DTSTART:20190507T121500Z
DTEND:20190507T140000Z
LOCATION:E1.3\, SR 016
SUMMARY:Thorsten's Tutorial
END:VEVENT
BEGIN:VEVENT
UID:32306461-6537-4939-b937-646233376566
DTSTAMP:20260421T205713Z
DESCRIPTION:
DTSTART:20190507T121500Z
DTEND:20190507T140000Z
LOCATION:E1.3\, SR 107
SUMMARY:Sören's Tutorial
END:VEVENT
BEGIN:VEVENT
UID:32343530-6661-4234-b937-336236363638
DTSTAMP:20260421T205713Z
DESCRIPTION:
DTSTART:20190508T081500Z
DTEND:20190508T100000Z
LOCATION:E2.1\, SR 001
SUMMARY:Doreen's Tutorial
END:VEVENT
BEGIN:VEVENT
UID:61653732-6137-4637-b537-376565653337
DTSTAMP:20260421T205713Z
DESCRIPTION:
DTSTART:20190508T101500Z
DTEND:20190508T120000Z
LOCATION:E1.4\, room 021
SUMMARY:Cosmina's Tutorial
END:VEVENT
BEGIN:VEVENT
UID:38323265-3338-4438-b433-633061356262
DTSTAMP:20260421T205713Z
DESCRIPTION:
DTSTART:20190509T081500Z
DTEND:20190509T100000Z
LOCATION:E1.3\, SR 107
SUMMARY:Aleena's Tutorial
END:VEVENT
BEGIN:VEVENT
UID:38616130-3737-4466-b438-616430623061
DTSTAMP:20260421T205713Z
DESCRIPTION:
DTSTART:20190509T101500Z
DTEND:20190509T120000Z
LOCATION:E1.3\, SR 107
SUMMARY:Marcel's Tutorial
END:VEVENT
BEGIN:VEVENT
UID:66663632-6336-4234-b361-626663326463
DTSTAMP:20260421T205713Z
DESCRIPTION:
DTSTART:20190513T141500Z
DTEND:20190513T160000Z
LOCATION:E1.3\, SR014
SUMMARY:Anna's Tutorial
END:VEVENT
BEGIN:VEVENT
UID:61356262-3031-4333-a432-393766393632
DTSTAMP:20260421T205713Z
DESCRIPTION:
DTSTART:20190513T141500Z
DTEND:20190513T160000Z
LOCATION:E1.3\, SR 107
SUMMARY:Hanan's Tutorial
END:VEVENT
BEGIN:VEVENT
UID:30356533-3431-4431-b664-656139633362
DTSTAMP:20260421T205713Z
DESCRIPTION:
DTSTART:20190514T121500Z
DTEND:20190514T140000Z
LOCATION:E1.3\, SR 016
SUMMARY:Thorsten's Tutorial
END:VEVENT
BEGIN:VEVENT
UID:38346464-3430-4063-a431-336639656535
DTSTAMP:20260421T205713Z
DESCRIPTION:
DTSTART:20190514T121500Z
DTEND:20190514T140000Z
LOCATION:E1.3\, SR 107
SUMMARY:Sören's Tutorial
END:VEVENT
BEGIN:VEVENT
UID:62626535-6261-4135-b836-373936343735
DTSTAMP:20260421T205713Z
DESCRIPTION:
DTSTART:20190515T081500Z
DTEND:20190515T100000Z
LOCATION:E2.1\, SR 001
SUMMARY:Doreen's Tutorial
END:VEVENT
BEGIN:VEVENT
UID:38636139-3133-4536-a432-373831373136
DTSTAMP:20260421T205713Z
DESCRIPTION:
DTSTART:20190515T101500Z
DTEND:20190515T120000Z
LOCATION:E1.4\, room 021
SUMMARY:Cosmina's Tutorial
END:VEVENT
BEGIN:VEVENT
UID:34343362-6536-4838-a437-346166646637
DTSTAMP:20260421T205713Z
DESCRIPTION:
DTSTART:20190516T081500Z
DTEND:20190516T100000Z
LOCATION:E1.3\, SR 107
SUMMARY:Aleena's Tutorial
END:VEVENT
BEGIN:VEVENT
UID:39313766-3534-4762-b866-666333663237
DTSTAMP:20260421T205713Z
DESCRIPTION:
DTSTART:20190516T101500Z
DTEND:20190516T120000Z
LOCATION:E1.3\, SR 107
SUMMARY:Marcel's Tutorial
END:VEVENT
BEGIN:VEVENT
UID:37326533-3231-4430-b130-396663326239
DTSTAMP:20260421T205713Z
DESCRIPTION:
DTSTART:20190520T141500Z
DTEND:20190520T160000Z
LOCATION:E1.3\, SR 107
SUMMARY:Hanan's Tutorial
END:VEVENT
BEGIN:VEVENT
UID:61346132-3939-4435-a664-666131633730
DTSTAMP:20260421T205713Z
DESCRIPTION:
DTSTART:20190520T141500Z
DTEND:20190520T160000Z
LOCATION:E1.3\, SR014
SUMMARY:Anna's Tutorial
END:VEVENT
BEGIN:VEVENT
UID:31323034-6338-4562-a365-616230323737
DTSTAMP:20260421T205713Z
DESCRIPTION:
DTSTART:20190521T121500Z
DTEND:20190521T140000Z
LOCATION:E1.3\, SR 016
SUMMARY:Thorsten's Tutorial
END:VEVENT
BEGIN:VEVENT
UID:30636636-6362-4766-a430-643537313565
DTSTAMP:20260421T205713Z
DESCRIPTION:
DTSTART:20190521T121500Z
DTEND:20190521T140000Z
LOCATION:E1.3\, SR 107
SUMMARY:Sören's Tutorial
END:VEVENT
BEGIN:VEVENT
UID:31313266-3666-4235-b635-633338666135
DTSTAMP:20260421T205713Z
DESCRIPTION:
DTSTART:20190522T081500Z
DTEND:20190522T100000Z
LOCATION:E2.1\, SR 001
SUMMARY:Doreen's Tutorial
END:VEVENT
BEGIN:VEVENT
UID:32616235-3437-4532-b438-616538376236
DTSTAMP:20260421T205713Z
DESCRIPTION:
DTSTART:20190522T101500Z
DTEND:20190522T120000Z
LOCATION:E1.4\, room 021
SUMMARY:Cosmina's Tutorial
END:VEVENT
BEGIN:VEVENT
UID:31316437-3663-4139-a161-626362613964
DTSTAMP:20260421T205713Z
DESCRIPTION:
DTSTART:20190523T081500Z
DTEND:20190523T100000Z
LOCATION:E1.3\, SR 107
SUMMARY:Aleena's Tutorial
END:VEVENT
BEGIN:VEVENT
UID:33313266-3264-4132-a334-313863353432
DTSTAMP:20260421T205713Z
DESCRIPTION:
DTSTART:20190523T101500Z
DTEND:20190523T120000Z
LOCATION:E1.3\, SR 107
SUMMARY:Marcel's Tutorial
END:VEVENT
BEGIN:VEVENT
UID:61653433-6566-4537-b266-383430323632
DTSTAMP:20260421T205713Z
DESCRIPTION:
DTSTART:20190527T141500Z
DTEND:20190527T160000Z
LOCATION:E1.3\, SR 107
SUMMARY:Hanan's Tutorial
END:VEVENT
BEGIN:VEVENT
UID:62326336-3634-4137-b263-613636623666
DTSTAMP:20260421T205713Z
DESCRIPTION:Please note the changed time!
DTSTART:20190528T081500Z
DTEND:20190528T100000Z
LOCATION:E1.3\, SR 107
SUMMARY:Marcel's Tutorial
END:VEVENT
BEGIN:VEVENT
UID:65373134-3265-4764-a131-623563343039
DTSTAMP:20260421T205713Z
DESCRIPTION:
DTSTART:20190528T121500Z
DTEND:20190528T140000Z
LOCATION:E1.3\, SR 016
SUMMARY:Thorsten's Tutorial
END:VEVENT
BEGIN:VEVENT
UID:36393062-3662-4331-b433-323836313466
DTSTAMP:20260421T205713Z
DESCRIPTION:
DTSTART:20190528T121500Z
DTEND:20190528T140000Z
LOCATION:E1.3\, SR 107
SUMMARY:Sören's Tutorial
END:VEVENT
BEGIN:VEVENT
UID:63313630-6265-4835-b436-376364323331
DTSTAMP:20260421T205713Z
DESCRIPTION:
DTSTART:20190529T081500Z
DTEND:20190529T100000Z
LOCATION:E2.1\, SR 001
SUMMARY:Doreen's Tutorial
END:VEVENT
BEGIN:VEVENT
UID:39306661-6536-4363-b837-646633313763
DTSTAMP:20260421T205713Z
DESCRIPTION:Please note the changed time and room.
DTSTART:20190529T081500Z
DTEND:20190529T100000Z
LOCATION:E1.3\, HS 003
SUMMARY:Aleena's Tutorial
END:VEVENT
BEGIN:VEVENT
UID:38623132-3233-4534-b238-633634666464
DTSTAMP:20260421T205713Z
DESCRIPTION:
DTSTART:20190529T101500Z
DTEND:20190529T120000Z
LOCATION:E1.4\, room 021
SUMMARY:Cosmina's Tutorial
END:VEVENT
BEGIN:VEVENT
UID:39643062-3533-4235-b265-616262393461
DTSTAMP:20260421T205713Z
DESCRIPTION:
DTSTART:20190529T121500Z
DTEND:20190529T140000Z
LOCATION:E1.1\, SR306
SUMMARY:Anna's Tutorial
END:VEVENT
BEGIN:VEVENT
UID:37323234-6539-4562-a438-303434313936
DTSTAMP:20260421T205713Z
DESCRIPTION:
DTSTART:20190603T141500Z
DTEND:20190603T160000Z
LOCATION:E1.3\, SR014
SUMMARY:Anna's Tutorial
END:VEVENT
BEGIN:VEVENT
UID:61666165-3738-4530-b562-623738323731
DTSTAMP:20260421T205713Z
DESCRIPTION:
DTSTART:20190603T141500Z
DTEND:20190603T160000Z
LOCATION:E1.3\, SR 107
SUMMARY:Hanan's Tutorial
END:VEVENT
BEGIN:VEVENT
UID:30653862-3733-4335-b539-396238353032
DTSTAMP:20260421T205713Z
DESCRIPTION:
DTSTART:20190604T121500Z
DTEND:20190604T140000Z
LOCATION:E1.3\, SR 016
SUMMARY:Thorsten's Tutorial
END:VEVENT
BEGIN:VEVENT
UID:30373930-6435-4130-b765-633332376163
DTSTAMP:20260421T205713Z
DESCRIPTION:
DTSTART:20190605T081500Z
DTEND:20190605T100000Z
LOCATION:E2.1\, SR 001
SUMMARY:Doreen's Tutorial
END:VEVENT
BEGIN:VEVENT
UID:35323337-6164-4635-b733-656131393365
DTSTAMP:20260421T205713Z
DESCRIPTION:
DTSTART:20190605T101500Z
DTEND:20190605T120000Z
LOCATION:E1.4\, room 021
SUMMARY:Cosmina's Tutorial
END:VEVENT
BEGIN:VEVENT
UID:31373961-6661-4535-b338-313630666336
DTSTAMP:20260421T205713Z
DESCRIPTION:
DTSTART:20190606T081500Z
DTEND:20190606T100000Z
LOCATION:E1.3\, SR 107
SUMMARY:Aleena's Tutorial
END:VEVENT
BEGIN:VEVENT
UID:30616631-6530-4938-a265-363931393266
DTSTAMP:20260421T205713Z
DESCRIPTION:
DTSTART:20190606T101500Z
DTEND:20190606T120000Z
LOCATION:E1.3\, SR 107
SUMMARY:Marcel's Tutorial
END:VEVENT
BEGIN:VEVENT
UID:63613563-3966-4065-b630-373263636235
DTSTAMP:20260421T205713Z
DESCRIPTION:Please note the changed time!
DTSTART:20190611T081500Z
DTEND:20190611T100000Z
LOCATION:E1.3\, SR 107
SUMMARY:Hanan's Tutorial
END:VEVENT
BEGIN:VEVENT
UID:34303431-6638-4433-a361-373935613134
DTSTAMP:20260421T205713Z
DESCRIPTION:
DTSTART:20190611T121500Z
DTEND:20190611T140000Z
LOCATION:E1.3\, SR 107
SUMMARY:Sören's Tutorial
END:VEVENT
BEGIN:VEVENT
UID:36313433-6565-4339-a566-623334653638
DTSTAMP:20260421T205713Z
DESCRIPTION:
DTSTART:20190611T121500Z
DTEND:20190611T140000Z
LOCATION:E1.3\, SR 016
SUMMARY:Thorsten's Tutorial
END:VEVENT
BEGIN:VEVENT
UID:62643165-6137-4438-a461-336134326632
DTSTAMP:20260421T205713Z
DESCRIPTION:
DTSTART:20190612T081500Z
DTEND:20190612T100000Z
LOCATION:E2.1\, SR 001
SUMMARY:Doreen's Tutorial
END:VEVENT
BEGIN:VEVENT
UID:62636635-3537-4132-b665-343233343564
DTSTAMP:20260421T205713Z
DESCRIPTION:
DTSTART:20190612T101500Z
DTEND:20190612T120000Z
LOCATION:E1.4\, room 021
SUMMARY:Cosmina's Tutorial
END:VEVENT
BEGIN:VEVENT
UID:34643935-3466-4565-b566-663630393533
DTSTAMP:20260421T205713Z
DESCRIPTION:
DTSTART:20190612T121500Z
DTEND:20190612T141500Z
LOCATION:E1.1\, SR306
SUMMARY:Anna's Tutorial
END:VEVENT
BEGIN:VEVENT
UID:39313336-6336-4835-a164-323138643065
DTSTAMP:20260421T205713Z
DESCRIPTION:
DTSTART:20190613T081500Z
DTEND:20190613T100000Z
LOCATION:E1.3\, SR 107
SUMMARY:Aleena's Tutorial
END:VEVENT
BEGIN:VEVENT
UID:32396134-3433-4365-b662-383638336438
DTSTAMP:20260421T205713Z
DESCRIPTION:
DTSTART:20190613T101500Z
DTEND:20190613T120000Z
LOCATION:E1.3\, SR 107
SUMMARY:Marcel's Tutorial
END:VEVENT
BEGIN:VEVENT
UID:39346430-3666-4036-b263-356230373231
DTSTAMP:20260421T205713Z
DESCRIPTION:
DTSTART:20190617T141500Z
DTEND:20190617T160000Z
LOCATION:E1.3\, SR 107
SUMMARY:Hanan's Tutorial
END:VEVENT
BEGIN:VEVENT
UID:32353330-6461-4265-a462-323032373433
DTSTAMP:20260421T205713Z
DESCRIPTION:
DTSTART:20190617T141500Z
DTEND:20190617T160000Z
LOCATION:E1.3\, SR014
SUMMARY:Anna's Tutorial
END:VEVENT
BEGIN:VEVENT
UID:65343766-3762-4665-b936-393935623265
DTSTAMP:20260421T205713Z
DESCRIPTION:Please note the changed time!
DTSTART:20190618T081500Z
DTEND:20190618T100000Z
LOCATION:E1.3\, SR 107
SUMMARY:Marcel's Tutorial
END:VEVENT
BEGIN:VEVENT
UID:64633232-3333-4931-a362-303631396435
DTSTAMP:20260421T205713Z
DESCRIPTION:
DTSTART:20190618T121500Z
DTEND:20190618T140000Z
LOCATION:E1.3\, SR 107
SUMMARY:Sören's Tutorial
END:VEVENT
BEGIN:VEVENT
UID:32313535-3536-4130-b635-396666636630
DTSTAMP:20260421T205713Z
DESCRIPTION:
DTSTART:20190618T121500Z
DTEND:20190618T140000Z
LOCATION:E1.3\, SR 016
SUMMARY:Thorsten's Tutorial
END:VEVENT
BEGIN:VEVENT
UID:34303364-3134-4539-b933-666537393631
DTSTAMP:20260421T205713Z
DESCRIPTION:
DTSTART:20190619T081500Z
DTEND:20190619T100000Z
LOCATION:E2.1\, SR 001
SUMMARY:Doreen's Tutorial
END:VEVENT
BEGIN:VEVENT
UID:36303735-6663-4863-a466-383633396238
DTSTAMP:20260421T205713Z
DESCRIPTION:
DTSTART:20190619T101500Z
DTEND:20190619T120000Z
LOCATION:E1.4\, room 021
SUMMARY:Cosmina's Tutorial
END:VEVENT
BEGIN:VEVENT
UID:32313838-3333-4466-b166-333033376130
DTSTAMP:20260421T205713Z
DESCRIPTION:Please note the changed time.
DTSTART:20190621T081500Z
DTEND:20190621T100000Z
LOCATION:E1.3\, SR 107
SUMMARY:Aleena's Tutorial
END:VEVENT
BEGIN:VEVENT
UID:34353330-6437-4263-a663-656139633837
DTSTAMP:20260421T205713Z
DESCRIPTION:
DTSTART:20190624T141500Z
DTEND:20190624T160000Z
LOCATION:E1.3\, SR014
SUMMARY:Anna's Tutorial
END:VEVENT
BEGIN:VEVENT
UID:61363537-3134-4234-b430-643764333335
DTSTAMP:20260421T205713Z
DESCRIPTION:
DTSTART:20190624T141500Z
DTEND:20190624T160000Z
LOCATION:E1.3\, SR 107
SUMMARY:Hanan's Tutorial
END:VEVENT
BEGIN:VEVENT
UID:37366630-6436-4338-b439-626465643463
DTSTAMP:20260421T205713Z
DESCRIPTION:
DTSTART:20190625T121500Z
DTEND:20190625T140000Z
LOCATION:E1.3\, SR 107
SUMMARY:Sören's Tutorial
END:VEVENT
BEGIN:VEVENT
UID:39366365-3432-4933-a465-346635363432
DTSTAMP:20260421T205713Z
DESCRIPTION:
DTSTART:20190625T121500Z
DTEND:20190625T140000Z
LOCATION:E1.3\, SR 016
SUMMARY:Thorsten's Tutorial
END:VEVENT
BEGIN:VEVENT
UID:64353538-3861-4934-b266-333263613139
DTSTAMP:20260421T205713Z
DESCRIPTION:
DTSTART:20190626T081500Z
DTEND:20190626T100000Z
LOCATION:E2.1\, SR 001
SUMMARY:Doreen's Tutorial
END:VEVENT
BEGIN:VEVENT
UID:32346665-3437-4736-b638-663664626362
DTSTAMP:20260421T205713Z
DESCRIPTION:
DTSTART:20190626T101500Z
DTEND:20190626T120000Z
LOCATION:E1.4\, room 021
SUMMARY:Cosmina's Tutorial
END:VEVENT
BEGIN:VEVENT
UID:32316666-6332-4537-a431-353331656464
DTSTAMP:20260421T205713Z
DESCRIPTION:
DTSTART:20190627T081500Z
DTEND:20190627T100000Z
LOCATION:E1.3\, SR 107
SUMMARY:Aleena's Tutorial
END:VEVENT
BEGIN:VEVENT
UID:65376165-3239-4732-b739-656332313037
DTSTAMP:20260421T205713Z
DESCRIPTION:
DTSTART:20190627T101500Z
DTEND:20190627T120000Z
LOCATION:E1.3\, SR 107
SUMMARY:Marcel's Tutorial
END:VEVENT
BEGIN:VEVENT
UID:31313533-3363-4630-b161-653035393064
DTSTAMP:20260421T205713Z
DESCRIPTION:
DTSTART:20190701T141500Z
DTEND:20190701T160000Z
LOCATION:E1.3\, SR 107
SUMMARY:Hanan's Tutorial
END:VEVENT
BEGIN:VEVENT
UID:63643766-3535-4762-b866-363830653964
DTSTAMP:20260421T205713Z
DESCRIPTION:
DTSTART:20190701T141500Z
DTEND:20190701T160000Z
LOCATION:E1.3\, SR014
SUMMARY:Anna's Tutorial
END:VEVENT
BEGIN:VEVENT
UID:35613265-3337-4337-b836-333931316235
DTSTAMP:20260421T205713Z
DESCRIPTION:
DTSTART:20190702T121500Z
DTEND:20190702T140000Z
LOCATION:E1.3\, SR 016
SUMMARY:Thorsten's Tutorial
END:VEVENT
BEGIN:VEVENT
UID:38393332-3131-4461-b236-636138616339
DTSTAMP:20260421T205713Z
DESCRIPTION:
DTSTART:20190702T121500Z
DTEND:20190702T140000Z
LOCATION:E1.3\, SR 107
SUMMARY:Sören's Tutorial
END:VEVENT
BEGIN:VEVENT
UID:38346432-6431-4330-b462-663633666134
DTSTAMP:20260421T205713Z
DESCRIPTION:
DTSTART:20190703T081500Z
DTEND:20190703T100000Z
LOCATION:E2.1\, SR 001
SUMMARY:Doreen's Tutorial
END:VEVENT
BEGIN:VEVENT
UID:64633965-6235-4061-b838-366338346338
DTSTAMP:20260421T205713Z
DESCRIPTION:
DTSTART:20190703T101500Z
DTEND:20190703T120000Z
LOCATION:E1.4\, room 021
SUMMARY:Cosmina's Tutorial
END:VEVENT
BEGIN:VEVENT
UID:34343136-6135-4330-b234-353432353238
DTSTAMP:20260421T205713Z
DESCRIPTION:
DTSTART:20190704T081500Z
DTEND:20190704T100000Z
LOCATION:E1.3\, SR 107
SUMMARY:Aleena's Tutorial
END:VEVENT
BEGIN:VEVENT
UID:63663863-6631-4035-b737-653439643862
DTSTAMP:20260421T205713Z
DESCRIPTION:
DTSTART:20190704T101500Z
DTEND:20190704T120000Z
LOCATION:E1.3\, SR 107
SUMMARY:Marcel's Tutorial
END:VEVENT
BEGIN:VEVENT
UID:65626461-6439-4364-a532-663934303137
DTSTAMP:20260421T205713Z
DESCRIPTION:
DTSTART:20190708T141500Z
DTEND:20190708T160000Z
LOCATION:E1.3\, SR 107
SUMMARY:Hanan's Tutorial
END:VEVENT
BEGIN:VEVENT
UID:38366564-3462-4765-a361-643832613439
DTSTAMP:20260421T205713Z
DESCRIPTION:
DTSTART:20190708T141500Z
DTEND:20190708T160000Z
LOCATION:E1.3\, SR014
SUMMARY:Anna's Tutorial
END:VEVENT
BEGIN:VEVENT
UID:61306631-3131-4730-b161-663139376462
DTSTAMP:20260421T205713Z
DESCRIPTION:
DTSTART:20190709T121500Z
DTEND:20190709T140000Z
LOCATION:E1.3\, SR 016
SUMMARY:Thorsten's Tutorial
END:VEVENT
BEGIN:VEVENT
UID:65386665-3634-4264-b462-643338333233
DTSTAMP:20260421T205713Z
DESCRIPTION:
DTSTART:20190709T121500Z
DTEND:20190709T140000Z
LOCATION:E1.3\, SR 107
SUMMARY:Sören's Tutorial
END:VEVENT
BEGIN:VEVENT
UID:38643433-6137-4636-a363-346532333432
DTSTAMP:20260421T205713Z
DESCRIPTION:
DTSTART:20190710T081500Z
DTEND:20190710T100000Z
LOCATION:E2.1\, SR 001
SUMMARY:Doreen's Tutorial
END:VEVENT
BEGIN:VEVENT
UID:38346162-3633-4666-b639-393430396462
DTSTAMP:20260421T205713Z
DESCRIPTION:
DTSTART:20190710T101500Z
DTEND:20190710T120000Z
LOCATION:E1.4\, room 021
SUMMARY:Cosmina's Tutorial
END:VEVENT
BEGIN:VEVENT
UID:30653265-3135-4430-b035-326363326136
DTSTAMP:20260421T205713Z
DESCRIPTION:
DTSTART:20190711T081500Z
DTEND:20190711T100000Z
LOCATION:E1.3\, SR 107
SUMMARY:Aleena's Tutorial
END:VEVENT
BEGIN:VEVENT
UID:64373034-3136-4564-b232-376438653964
DTSTAMP:20260421T205713Z
DESCRIPTION:
DTSTART:20190711T101500Z
DTEND:20190711T120000Z
LOCATION:E1.3\, SR 107
SUMMARY:Marcel's Tutorial
END:VEVENT
BEGIN:VEVENT
UID:34323631-3061-4638-a238-336363356432
DTSTAMP:20260421T205713Z
DESCRIPTION:
DTSTART:20190715T141500Z
DTEND:20190715T160000Z
LOCATION:E1.3\, SR 107
SUMMARY:Hanan's Tutorial
END:VEVENT
BEGIN:VEVENT
UID:64646232-3364-4163-b735-333464626137
DTSTAMP:20260421T205713Z
DESCRIPTION:
DTSTART:20190715T141500Z
DTEND:20190715T160000Z
LOCATION:E1.3\, SR014
SUMMARY:Anna's Tutorial
END:VEVENT
BEGIN:VEVENT
UID:61633664-3337-4063-b732-313834303861
DTSTAMP:20260421T205713Z
DESCRIPTION:
DTSTART:20190716T121500Z
DTEND:20190716T140000Z
LOCATION:E1.3\, SR 107
SUMMARY:Sören's Tutorial
END:VEVENT
BEGIN:VEVENT
UID:33396539-3634-4237-a539-663330656661
DTSTAMP:20260421T205713Z
DESCRIPTION:
DTSTART:20190716T121500Z
DTEND:20190716T140000Z
LOCATION:E1.3\, SR 016
SUMMARY:Thorsten's Tutorial
END:VEVENT
BEGIN:VEVENT
UID:31373863-3537-4265-b863-316564383065
DTSTAMP:20260421T205713Z
DESCRIPTION:
DTSTART:20190717T081500Z
DTEND:20190717T100000Z
LOCATION:E2.1\, SR 001
SUMMARY:Doreen's Tutorial
END:VEVENT
BEGIN:VEVENT
UID:65373332-3366-4333-b730-613166366339
DTSTAMP:20260421T205713Z
DESCRIPTION:
DTSTART:20190717T101500Z
DTEND:20190717T120000Z
LOCATION:E1.4\, room 021
SUMMARY:Cosmina's Tutorial
END:VEVENT
BEGIN:VEVENT
UID:32316664-3732-4161-b632-613837656139
DTSTAMP:20260421T205713Z
DESCRIPTION:
DTSTART:20190718T081500Z
DTEND:20190718T100000Z
LOCATION:E1.3\, SR 107
SUMMARY:Aleena's Tutorial
END:VEVENT
BEGIN:VEVENT
UID:63613063-6535-4238-b630-353032623864
DTSTAMP:20260421T205713Z
DESCRIPTION:
DTSTART:20190718T101500Z
DTEND:20190718T120000Z
LOCATION:E1.3\, SR 107
SUMMARY:Marcel's Tutorial
END:VEVENT
END:VCALENDAR
