BEGIN:VCALENDAR
VERSION:2.0
PRODID:-//134.96.226.213//NONSGML kigkonsult.se iCalcreator 2.41.71//
CALSCALE:GREGORIAN
METHOD:PUBLISH
UID:39396361-6361-4336-b738-346539323162
X-WR-CALNAME:Artificial Intelligence Calendar
X-WR-CALDESC:Events of the lecture Artificial Intelligence
X-WR-TIMEZONE:Europe/Berlin
BEGIN:VEVENT
UID:36626532-3430-4337-b731-653733373561
DTSTAMP:20260421T205832Z
DESCRIPTION:
DTSTART:20190408T121500Z
DTEND:20190408T140000Z
LOCATION:E2.5\, lecture hall 1
SUMMARY:Lecture
END:VEVENT
BEGIN:VEVENT
UID:30386531-3365-4464-b133-643732363532
DTSTAMP:20260421T205832Z
DESCRIPTION:
DTSTART:20190409T141500Z
DTEND:20190409T160000Z
LOCATION:E2.2\, Günther-Hotz lecture hall
SUMMARY:Lecture
END:VEVENT
BEGIN:VEVENT
UID:35343934-3037-4164-b230-663735653138
DTSTAMP:20260421T205832Z
DESCRIPTION:
DTSTART:20190415T121500Z
DTEND:20190415T140000Z
LOCATION:E2.5\, lecture hall 1
SUMMARY:Lecture
END:VEVENT
BEGIN:VEVENT
UID:33666338-6538-4366-b661-333639376638
DTSTAMP:20260421T205832Z
DESCRIPTION:
DTSTART:20190416T141500Z
DTEND:20190416T160000Z
LOCATION:E2.2\, Günther-Hotz lecture hall
SUMMARY:Lecture
END:VEVENT
BEGIN:VEVENT
UID:61303363-6431-4361-a635-656262623033
DTSTAMP:20260421T205832Z
DESCRIPTION:
DTSTART:20190423T141500Z
DTEND:20190423T160000Z
LOCATION:E2.2\, Günther-Hotz lecture hall
SUMMARY:Lecture
END:VEVENT
BEGIN:VEVENT
UID:34306135-6230-4036-b931-633463343461
DTSTAMP:20260421T205832Z
DESCRIPTION:
DTSTART:20190429T121500Z
DTEND:20190429T140000Z
LOCATION:E2.5\, lecture hall 1
SUMMARY:Lecture
END:VEVENT
BEGIN:VEVENT
UID:62653337-6637-4237-a165-666264633131
DTSTAMP:20260421T205832Z
DESCRIPTION:
DTSTART:20190430T141500Z
DTEND:20190430T160000Z
LOCATION:E2.2\, Günther-Hotz lecture hall
SUMMARY:Lecture
END:VEVENT
BEGIN:VEVENT
UID:35613962-3464-4937-b961-336566363934
DTSTAMP:20260421T205832Z
DESCRIPTION:
DTSTART:20190506T121500Z
DTEND:20190506T140000Z
LOCATION:E2.5\, lecture hall 1
SUMMARY:Lecture
END:VEVENT
BEGIN:VEVENT
UID:39366436-6361-4730-b139-653334323432
DTSTAMP:20260421T205832Z
DESCRIPTION:
DTSTART:20190507T141500Z
DTEND:20190507T160000Z
LOCATION:E2.2\, Günther-Hotz lecture hall
SUMMARY:Lecture
END:VEVENT
BEGIN:VEVENT
UID:33346165-3964-4264-b238-613461666166
DTSTAMP:20260421T205832Z
DESCRIPTION:
DTSTART:20190513T121500Z
DTEND:20190513T140000Z
LOCATION:E2.5\, lecture hall 1
SUMMARY:Lecture
END:VEVENT
BEGIN:VEVENT
UID:35306661-6231-4639-a531-396639303261
DTSTAMP:20260421T205832Z
DESCRIPTION:
DTSTART:20190514T141500Z
DTEND:20190514T160000Z
LOCATION:E2.2\, Günther-Hotz lecture hall
SUMMARY:Lecture
END:VEVENT
BEGIN:VEVENT
UID:37316164-3665-4631-b564-613234396661
DTSTAMP:20260421T205832Z
DESCRIPTION:
DTSTART:20190520T121500Z
DTEND:20190520T140000Z
LOCATION:E2.5\, lecture hall 1
SUMMARY:Lecture
END:VEVENT
BEGIN:VEVENT
UID:63616437-6438-4332-b666-646133633465
DTSTAMP:20260421T205832Z
DESCRIPTION:
DTSTART:20190521T141500Z
DTEND:20190521T160000Z
LOCATION:E2.2\, Günther-Hotz lecture hall
SUMMARY:Lecture
END:VEVENT
BEGIN:VEVENT
UID:39393261-3034-4739-a463-336463653531
DTSTAMP:20260421T205832Z
DESCRIPTION:
DTSTART:20190527T121500Z
DTEND:20190527T140000Z
LOCATION:E2.5\, lecture hall 1
SUMMARY:Lecture
END:VEVENT
BEGIN:VEVENT
UID:39353632-6137-4631-a633-363335326661
DTSTAMP:20260421T205832Z
DESCRIPTION:
DTSTART:20190528T141500Z
DTEND:20190528T160000Z
LOCATION:E2.2\, Günther-Hotz lecture hall
SUMMARY:Lecture
END:VEVENT
BEGIN:VEVENT
UID:34663533-6433-4535-a561-326461656666
DTSTAMP:20260421T205832Z
DESCRIPTION:
DTSTART:20190603T121500Z
DTEND:20190603T140000Z
LOCATION:E2.5\, lecture hall 1
SUMMARY:Lecture
END:VEVENT
BEGIN:VEVENT
UID:63646330-3838-4266-b735-633062346532
DTSTAMP:20260421T205832Z
DESCRIPTION:
DTSTART:20190604T141500Z
DTEND:20190604T160000Z
LOCATION:E2.2\, Günther-Hotz lecture hall
SUMMARY:Lecture
END:VEVENT
BEGIN:VEVENT
UID:66613435-3936-4737-b236-376162333162
DTSTAMP:20260421T205832Z
DESCRIPTION:
DTSTART:20190611T141500Z
DTEND:20190611T160000Z
LOCATION:E2.2\, Günther-Hotz lecture hall
SUMMARY:Lecture
END:VEVENT
BEGIN:VEVENT
UID:34323935-6464-4236-b563-373831653331
DTSTAMP:20260421T205832Z
DESCRIPTION:
DTSTART:20190617T121500Z
DTEND:20190617T140000Z
LOCATION:E2.5\, lecture hall 1
SUMMARY:Lecture
END:VEVENT
BEGIN:VEVENT
UID:39353335-3861-4563-b730-633965383631
DTSTAMP:20260421T205832Z
DESCRIPTION:
DTSTART:20190618T141500Z
DTEND:20190618T160000Z
LOCATION:E2.2\, Günther-Hotz lecture hall
SUMMARY:Lecture
END:VEVENT
BEGIN:VEVENT
UID:35326236-3236-4861-a232-303166373434
DTSTAMP:20260421T205832Z
DESCRIPTION:
DTSTART:20190624T121500Z
DTEND:20190624T140000Z
LOCATION:E2.5\, lecture hall 1
SUMMARY:Lecture
END:VEVENT
BEGIN:VEVENT
UID:31393161-3637-4336-b434-346236336665
DTSTAMP:20260421T205832Z
DESCRIPTION:
DTSTART:20190625T141500Z
DTEND:20190625T160000Z
LOCATION:E2.2\, Günther-Hotz lecture hall
SUMMARY:Lecture
END:VEVENT
BEGIN:VEVENT
UID:31353739-3262-4530-b632-656133323865
DTSTAMP:20260421T205832Z
DESCRIPTION:
DTSTART:20190701T121500Z
DTEND:20190701T140000Z
LOCATION:E2.5\, lecture hall 1
SUMMARY:Lecture
END:VEVENT
BEGIN:VEVENT
UID:63303531-3435-4261-b434-323464353637
DTSTAMP:20260421T205832Z
DESCRIPTION:
DTSTART:20190702T141500Z
DTEND:20190702T160000Z
LOCATION:E2.2\, Günther-Hotz lecture hall
SUMMARY:Lecture
END:VEVENT
BEGIN:VEVENT
UID:65343564-3537-4465-b336-656161383731
DTSTAMP:20260421T205832Z
DESCRIPTION:
DTSTART:20190708T121500Z
DTEND:20190708T140000Z
LOCATION:E2.5\, lecture hall 1
SUMMARY:Lecture
END:VEVENT
BEGIN:VEVENT
UID:62343230-3166-4438-a162-393066643331
DTSTAMP:20260421T205832Z
DESCRIPTION:
DTSTART:20190709T141500Z
DTEND:20190709T160000Z
LOCATION:E2.2\, Günther-Hotz lecture hall
SUMMARY:Lecture
END:VEVENT
BEGIN:VEVENT
UID:34316661-3633-4866-b236-303139393466
DTSTAMP:20260421T205832Z
DESCRIPTION:
DTSTART:20190715T121500Z
DTEND:20190715T140000Z
LOCATION:E2.5\, lecture hall 1
SUMMARY:Lecture
END:VEVENT
BEGIN:VEVENT
UID:31363265-3734-4565-b330-333733316431
DTSTAMP:20260421T205832Z
DESCRIPTION:
DTSTART:20190716T141500Z
DTEND:20190716T160000Z
LOCATION:E2.2\, Günther-Hotz lecture hall
SUMMARY:Lecture
END:VEVENT
END:VCALENDAR
